BEGIN:VCALENDAR
VERSION:2.0
PRODID:-//Jugendzentrum im Paul-Gerhardt Haus - ECPv6.15.20//NONSGML v1.0//EN
CALSCALE:GREGORIAN
METHOD:PUBLISH
X-ORIGINAL-URL:https://pg-muenster.de
X-WR-CALDESC:Veranstaltungen für Jugendzentrum im Paul-Gerhardt Haus
REFRESH-INTERVAL;VALUE=DURATION:PT1H
X-Robots-Tag:noindex
X-PUBLISHED-TTL:PT1H
BEGIN:VTIMEZONE
TZID:Europe/Berlin
BEGIN:DAYLIGHT
TZOFFSETFROM:+0100
TZOFFSETTO:+0200
TZNAME:CEST
DTSTART:20230326T010000
END:DAYLIGHT
BEGIN:STANDARD
TZOFFSETFROM:+0200
TZOFFSETTO:+0100
TZNAME:CET
DTSTART:20231029T010000
END:STANDARD
BEGIN:DAYLIGHT
TZOFFSETFROM:+0100
TZOFFSETTO:+0200
TZNAME:CEST
DTSTART:20240331T010000
END:DAYLIGHT
BEGIN:STANDARD
TZOFFSETFROM:+0200
TZOFFSETTO:+0100
TZNAME:CET
DTSTART:20241027T010000
END:STANDARD
BEGIN:DAYLIGHT
TZOFFSETFROM:+0100
TZOFFSETTO:+0200
TZNAME:CEST
DTSTART:20250330T010000
END:DAYLIGHT
BEGIN:STANDARD
TZOFFSETFROM:+0200
TZOFFSETTO:+0100
TZNAME:CET
DTSTART:20251026T010000
END:STANDARD
END:VTIMEZONE
BEGIN:VEVENT
DTSTART;TZID=Europe/Berlin:20240722T170000
DTEND;TZID=Europe/Berlin:20240722T200000
DTSTAMP:20260420T155915
CREATED:20240618T164256Z
LAST-MODIFIED:20240618T164256Z
UID:10001100-1721667600-1721678400@pg-muenster.de
SUMMARY:Einführung ins Improtheater 🎭
DESCRIPTION:Ihr wolltet schon immer mal Improtheater ausprobieren? Dann kommt vorbei zu unserer Einführung ins Improtheater! \nWann? Montag\, 22.07. von 17-20 Uhr \nWo? Kreativ-Haus\, Diepenbrockstr. 28\, 48145 Münster
URL:https://pg-muenster.de/veranstaltung/einfuehrung-ins-improtheater-%f0%9f%8e%ad/
LOCATION:Kreativhaus\, Diepenbrockstr. 28\, Münster\, 48145
CATEGORIES:Ferienprogramm,Theater
ORGANIZER;CN="PG Theatermafia - Olaf Herzog":MAILTO:info@theatermafia.de
END:VEVENT
BEGIN:VEVENT
DTSTART;TZID=Europe/Berlin:20240610T181500
DTEND;TZID=Europe/Berlin:20240610T194500
DTSTAMP:20260420T155915
CREATED:20240509T000625Z
LAST-MODIFIED:20240509T000625Z
UID:10001061-1718043300-1718048700@pg-muenster.de
SUMMARY:Offener Improtheaterkurs 🎭
DESCRIPTION:Du wolltest Impro schon immer mal ausprobieren? Komm vorbei! \nIn unserem offenen Improtheaterkurs kann jede*r mitmachen! Um 18:15 Uhr geht es los\, egal ob du Impro-Neuling oder bereits Erfahrung hast\, wir freuen uns auf dich! \nWann? Montags 18:15 Uhr – 19:45 Uhr \nWo? Kreativhaus\, Diepenbrockstr. 28 \n  \nDieses Angebot wird durch unseren Förderverein finanziell unterstützt. Du möchtest die Angebote des PG auch fördern? Werde hier Mitglied und unterstütze das PG.
URL:https://pg-muenster.de/veranstaltung/offener-improtheaterkurs-%f0%9f%8e%ad-11/
LOCATION:Kreativhaus\, Diepenbrockstr. 28\, Münster\, 48145
CATEGORIES:Theater,Wochenprogramm
ORGANIZER;CN="PG Theatermafia - Olaf Herzog":MAILTO:info@theatermafia.de
END:VEVENT
BEGIN:VEVENT
DTSTART;TZID=Europe/Berlin:20240603T200000
DTEND;TZID=Europe/Berlin:20240603T213000
DTSTAMP:20260420T155915
CREATED:20240509T000943Z
LAST-MODIFIED:20240509T000943Z
UID:10001065-1717444800-1717450200@pg-muenster.de
SUMMARY:Improgruppe Hoppala!  🎭
DESCRIPTION:Improvisationstheatergruppe für Fortgeschrittene. \nBei Fragen melde dich gerne bei unserem Theaterpädagogen Olaf Herzog. \n  \n  \nDieses Angebot wird durch unseren Förderverein finanziell unterstützt. Du möchtest die Angebote des PG auch fördern? Werde hier Mitglied und unterstütze das PG.
URL:https://pg-muenster.de/veranstaltung/improgruppe-hoppala-%f0%9f%8e%ad-4/
LOCATION:Kreativhaus\, Diepenbrockstr. 28\, Münster\, 48145
CATEGORIES:Theater,Wochenprogramm
ORGANIZER;CN="PG Theatermafia - Olaf Herzog":MAILTO:info@theatermafia.de
END:VEVENT
BEGIN:VEVENT
DTSTART;TZID=Europe/Berlin:20240603T181500
DTEND;TZID=Europe/Berlin:20240603T194500
DTSTAMP:20260420T155915
CREATED:20240509T000547Z
LAST-MODIFIED:20240509T000547Z
UID:10001060-1717438500-1717443900@pg-muenster.de
SUMMARY:Offener Improtheaterkurs 🎭
DESCRIPTION:Du wolltest Impro schon immer mal ausprobieren? Komm vorbei! \nIn unserem offenen Improtheaterkurs kann jede*r mitmachen! Um 18:15 Uhr geht es los\, egal ob du Impro-Neuling oder bereits Erfahrung hast\, wir freuen uns auf dich! \nWann? Montags 18:15 Uhr – 19:45 Uhr \nWo? Kreativhaus\, Diepenbrockstr. 28 \n  \nDieses Angebot wird durch unseren Förderverein finanziell unterstützt. Du möchtest die Angebote des PG auch fördern? Werde hier Mitglied und unterstütze das PG.
URL:https://pg-muenster.de/veranstaltung/offener-improtheaterkurs-%f0%9f%8e%ad-10/
LOCATION:Kreativhaus\, Diepenbrockstr. 28\, Münster\, 48145
CATEGORIES:Theater,Wochenprogramm
ORGANIZER;CN="PG Theatermafia - Olaf Herzog":MAILTO:info@theatermafia.de
END:VEVENT
BEGIN:VEVENT
DTSTART;TZID=Europe/Berlin:20240527T200000
DTEND;TZID=Europe/Berlin:20240527T213000
DTSTAMP:20260420T155915
CREATED:20240509T000920Z
LAST-MODIFIED:20240509T000921Z
UID:10001064-1716840000-1716845400@pg-muenster.de
SUMMARY:Improgruppe Hoppala!  🎭
DESCRIPTION:Improvisationstheatergruppe für Fortgeschrittene. \nBei Fragen melde dich gerne bei unserem Theaterpädagogen Olaf Herzog. \n  \n  \nDieses Angebot wird durch unseren Förderverein finanziell unterstützt. Du möchtest die Angebote des PG auch fördern? Werde hier Mitglied und unterstütze das PG.
URL:https://pg-muenster.de/veranstaltung/improgruppe-hoppala-%f0%9f%8e%ad-3/
LOCATION:Kreativhaus\, Diepenbrockstr. 28\, Münster\, 48145
CATEGORIES:Theater,Wochenprogramm
ORGANIZER;CN="PG Theatermafia - Olaf Herzog":MAILTO:info@theatermafia.de
END:VEVENT
BEGIN:VEVENT
DTSTART;TZID=Europe/Berlin:20240527T181500
DTEND;TZID=Europe/Berlin:20240527T194500
DTSTAMP:20260420T155915
CREATED:20240509T000506Z
LAST-MODIFIED:20240509T000509Z
UID:10001059-1716833700-1716839100@pg-muenster.de
SUMMARY:Offener Improtheaterkurs 🎭
DESCRIPTION:Du wolltest Impro schon immer mal ausprobieren? Komm vorbei! \nIn unserem offenen Improtheaterkurs kann jede*r mitmachen! Um 18:15 Uhr geht es los\, egal ob du Impro-Neuling oder bereits Erfahrung hast\, wir freuen uns auf dich! \nWann? Montags 18:15 Uhr – 19:45 Uhr \nWo? Kreativhaus\, Diepenbrockstr. 28 \n  \nDieses Angebot wird durch unseren Förderverein finanziell unterstützt. Du möchtest die Angebote des PG auch fördern? Werde hier Mitglied und unterstütze das PG.
URL:https://pg-muenster.de/veranstaltung/offener-improtheaterkurs-%f0%9f%8e%ad-9/
LOCATION:Kreativhaus\, Diepenbrockstr. 28\, Münster\, 48145
CATEGORIES:Theater,Wochenprogramm
ORGANIZER;CN="PG Theatermafia - Olaf Herzog":MAILTO:info@theatermafia.de
END:VEVENT
BEGIN:VEVENT
DTSTART;TZID=Europe/Berlin:20240513T200000
DTEND;TZID=Europe/Berlin:20240513T213000
DTSTAMP:20260420T155915
CREATED:20240509T000858Z
LAST-MODIFIED:20240509T000859Z
UID:10001063-1715630400-1715635800@pg-muenster.de
SUMMARY:Improgruppe Hoppala!  🎭
DESCRIPTION:Improvisationstheatergruppe für Fortgeschrittene. \nBei Fragen melde dich gerne bei unserem Theaterpädagogen Olaf Herzog. \n  \n  \nDieses Angebot wird durch unseren Förderverein finanziell unterstützt. Du möchtest die Angebote des PG auch fördern? Werde hier Mitglied und unterstütze das PG.
URL:https://pg-muenster.de/veranstaltung/improgruppe-hoppala-%f0%9f%8e%ad-2/
LOCATION:Kreativhaus\, Diepenbrockstr. 28\, Münster\, 48145
CATEGORIES:Theater,Wochenprogramm
ORGANIZER;CN="PG Theatermafia - Olaf Herzog":MAILTO:info@theatermafia.de
END:VEVENT
BEGIN:VEVENT
DTSTART;TZID=Europe/Berlin:20240513T181500
DTEND;TZID=Europe/Berlin:20240513T194500
DTSTAMP:20260420T155915
CREATED:20240509T000428Z
LAST-MODIFIED:20240509T000428Z
UID:10001058-1715624100-1715629500@pg-muenster.de
SUMMARY:Offener Improtheaterkurs 🎭
DESCRIPTION:Du wolltest Impro schon immer mal ausprobieren? Komm vorbei! \nIn unserem offenen Improtheaterkurs kann jede*r mitmachen! Um 18:15 Uhr geht es los\, egal ob du Impro-Neuling oder bereits Erfahrung hast\, wir freuen uns auf dich! \nWann? Montags 18:15 Uhr – 19:45 Uhr \nWo? Kreativhaus\, Diepenbrockstr. 28 \n  \nDieses Angebot wird durch unseren Förderverein finanziell unterstützt. Du möchtest die Angebote des PG auch fördern? Werde hier Mitglied und unterstütze das PG.
URL:https://pg-muenster.de/veranstaltung/offener-improtheaterkurs-%f0%9f%8e%ad-8/
LOCATION:Kreativhaus\, Diepenbrockstr. 28\, Münster\, 48145
CATEGORIES:Theater,Wochenprogramm
ORGANIZER;CN="PG Theatermafia - Olaf Herzog":MAILTO:info@theatermafia.de
END:VEVENT
BEGIN:VEVENT
DTSTART;TZID=Europe/Berlin:20240506T200000
DTEND;TZID=Europe/Berlin:20240506T213000
DTSTAMP:20260420T155915
CREATED:20240509T000830Z
LAST-MODIFIED:20240509T001036Z
UID:10001062-1715025600-1715031000@pg-muenster.de
SUMMARY:Improgruppe Hoppala!  🎭
DESCRIPTION:Improvisationstheatergruppe für Fortgeschrittene. \nBei Fragen melde dich gerne bei unserem Theaterpädagogen Olaf Herzog. \n  \n  \nDieses Angebot wird durch unseren Förderverein finanziell unterstützt. Du möchtest die Angebote des PG auch fördern? Werde hier Mitglied und unterstütze das PG.
URL:https://pg-muenster.de/veranstaltung/improgruppe-hoppala-%f0%9f%8e%ad/
LOCATION:Kreativhaus\, Diepenbrockstr. 28\, Münster\, 48145
CATEGORIES:Theater,Wochenprogramm
ORGANIZER;CN="PG Theatermafia - Olaf Herzog":MAILTO:info@theatermafia.de
END:VEVENT
BEGIN:VEVENT
DTSTART;TZID=Europe/Berlin:20240506T181500
DTEND;TZID=Europe/Berlin:20240506T194500
DTSTAMP:20260420T155915
CREATED:20240509T000349Z
LAST-MODIFIED:20240509T000349Z
UID:10001057-1715019300-1715024700@pg-muenster.de
SUMMARY:Offener Improtheaterkurs 🎭
DESCRIPTION:Du wolltest Impro schon immer mal ausprobieren? Komm vorbei! \nIn unserem offenen Improtheaterkurs kann jede*r mitmachen! Um 18:15 Uhr geht es los\, egal ob du Impro-Neuling oder bereits Erfahrung hast\, wir freuen uns auf dich! \nWann? Montags 18:15 Uhr – 19:45 Uhr \nWo? Kreativhaus\, Diepenbrockstr. 28 \n  \nDieses Angebot wird durch unseren Förderverein finanziell unterstützt. Du möchtest die Angebote des PG auch fördern? Werde hier Mitglied und unterstütze das PG.
URL:https://pg-muenster.de/veranstaltung/offener-improtheaterkurs-%f0%9f%8e%ad-7/
LOCATION:Kreativhaus\, Diepenbrockstr. 28\, Münster\, 48145
CATEGORIES:Theater,Wochenprogramm
ORGANIZER;CN="PG Theatermafia - Olaf Herzog":MAILTO:info@theatermafia.de
END:VEVENT
END:VCALENDAR