BEGIN:VCALENDAR
VERSION:2.0
PRODID:-//Jugendzentrum im Paul-Gerhardt Haus - ECPv6.15.20//NONSGML v1.0//EN
CALSCALE:GREGORIAN
METHOD:PUBLISH
X-WR-CALNAME:Jugendzentrum im Paul-Gerhardt Haus
X-ORIGINAL-URL:https://pg-muenster.de
X-WR-CALDESC:Veranstaltungen für Jugendzentrum im Paul-Gerhardt Haus
REFRESH-INTERVAL;VALUE=DURATION:PT1H
X-Robots-Tag:noindex
X-PUBLISHED-TTL:PT1H
BEGIN:VTIMEZONE
TZID:Europe/Berlin
BEGIN:DAYLIGHT
TZOFFSETFROM:+0100
TZOFFSETTO:+0200
TZNAME:CEST
DTSTART:20240331T010000
END:DAYLIGHT
BEGIN:STANDARD
TZOFFSETFROM:+0200
TZOFFSETTO:+0100
TZNAME:CET
DTSTART:20241027T010000
END:STANDARD
BEGIN:DAYLIGHT
TZOFFSETFROM:+0100
TZOFFSETTO:+0200
TZNAME:CEST
DTSTART:20250330T010000
END:DAYLIGHT
BEGIN:STANDARD
TZOFFSETFROM:+0200
TZOFFSETTO:+0100
TZNAME:CET
DTSTART:20251026T010000
END:STANDARD
BEGIN:DAYLIGHT
TZOFFSETFROM:+0100
TZOFFSETTO:+0200
TZNAME:CEST
DTSTART:20260329T010000
END:DAYLIGHT
BEGIN:STANDARD
TZOFFSETFROM:+0200
TZOFFSETTO:+0100
TZNAME:CET
DTSTART:20261025T010000
END:STANDARD
BEGIN:DAYLIGHT
TZOFFSETFROM:+0100
TZOFFSETTO:+0200
TZNAME:CEST
DTSTART:20270328T010000
END:DAYLIGHT
BEGIN:STANDARD
TZOFFSETFROM:+0200
TZOFFSETTO:+0100
TZNAME:CET
DTSTART:20271031T010000
END:STANDARD
END:VTIMEZONE
BEGIN:VEVENT
DTSTART;TZID=Europe/Berlin:20260402T150000
DTEND;TZID=Europe/Berlin:20260402T150000
DTSTAMP:20260420T193913
CREATED:20260320T204023Z
LAST-MODIFIED:20260320T204023Z
UID:10006085-1775142000-1775142000@pg-muenster.de
SUMMARY:Mario Kart Turnier
DESCRIPTION:Mario\, Luigi\, Princess Peach oder du? Wer macht das Rennen bei unserem Mario Kart Turnier am Gründonnerstag? Komm vorbei uns spiel dich auf die PG Bestenliste im Mario Kart! \nWann? 02.April\, 15-19 Uhr \nWo? PG Jugendzentrum\, Hafenstraße 34\, 48153 Münster
URL:https://pg-muenster.de/veranstaltung/mario-kart-turnier/
LOCATION:Gleis 22\, Hafenweg 34\, Münster\, 48155
CATEGORIES:Ferienprogramm
ORGANIZER;CN="PG":MAILTO:info@pg-muenster.de
END:VEVENT
BEGIN:VEVENT
DTSTART;TZID=Europe/Berlin:20260401T150000
DTEND;TZID=Europe/Berlin:20260401T200000
DTSTAMP:20260420T193913
CREATED:20260320T142629Z
LAST-MODIFIED:20260320T142630Z
UID:10006082-1775055600-1775073600@pg-muenster.de
SUMMARY:Medienwerkstatt: 3D-Druck
DESCRIPTION:
URL:https://pg-muenster.de/veranstaltung/medienwerkstatt-3d-druck/
LOCATION:Gleis 22\, Hafenweg 34\, Münster\, 48155
CATEGORIES:Ferienprogramm,Kreativ
ORGANIZER;CN="PG":MAILTO:info@pg-muenster.de
END:VEVENT
BEGIN:VEVENT
DTSTART;TZID=Europe/Berlin:20260331T150000
DTEND;TZID=Europe/Berlin:20260331T200000
DTSTAMP:20260420T193913
CREATED:20260320T142439Z
LAST-MODIFIED:20260320T142947Z
UID:10006081-1774969200-1774987200@pg-muenster.de
SUMMARY:Medienwerkstatt: T-Shirt-Design
DESCRIPTION:Du wolltest immer schon mal selber ein T-Shirt bedrucken oder hast ein Design das du gerne auf deinem Shirt haben möchtest? Dann komm zu uns in die neue Medienwerkstatt im Jib und gestalte mit Johan und Thomas dein Einzelstück. \nBitte bringe selber ein T-Shirt und dein Wunschdesign mit.
URL:https://pg-muenster.de/veranstaltung/medienwerkstatt-t-shirt-design/
LOCATION:Gleis 22\, Hafenweg 34\, Münster\, 48155
CATEGORIES:Ferienprogramm,Kreativ
ORGANIZER;CN="PG":MAILTO:info@pg-muenster.de
END:VEVENT
BEGIN:VEVENT
DTSTART;TZID=Europe/Berlin:20260331T150000
DTEND;TZID=Europe/Berlin:20260331T170000
DTSTAMP:20260420T193913
CREATED:20260320T113323Z
LAST-MODIFIED:20260320T113323Z
UID:10006080-1774969200-1774976400@pg-muenster.de
SUMMARY:Kostenloser Breakdancekurs mit Nikita
DESCRIPTION:Jeden Dienstag von 15-17 Uhr gibt Nikita bei uns einen kostenlosen Breakdance Kurs für alle ab 10 Jahren.\n\n\n\n\n\nKommt vorbei und lernt neue Moves kennen!
URL:https://pg-muenster.de/veranstaltung/kostenloser-breakdancekurs-mit-nikita-5/
LOCATION:Gleis 22\, Hafenweg 34\, Münster\, 48155
CATEGORIES:Angebote für Geflüchtete,Sport,Tanz,Wochenprogramm
ORGANIZER;CN="PG":MAILTO:info@pg-muenster.de
END:VEVENT
BEGIN:VEVENT
DTSTART;TZID=Europe/Berlin:20260330T160000
DTEND;TZID=Europe/Berlin:20260330T200000
DTSTAMP:20260420T193913
CREATED:20260320T113016Z
LAST-MODIFIED:20260320T113016Z
UID:10006079-1774886400-1774900800@pg-muenster.de
SUMMARY:Ferienauftakt mit Grillen
DESCRIPTION:Wir beginnen die Ferien wie immer ganz traditionell mit einem tollen Grillnachmittag! \nAb 16 geht es los\, wir haben Spiele vorbereitet und wollen den Hof vor dem Gleis voll ausnutzen. Bei schlechtem Wetter können wir nach drinnen ausweichen. \nAlso kommt vorbei und beginnt die Ferien mit uns!
URL:https://pg-muenster.de/veranstaltung/ferienauftakt-mit-grillen-3/
LOCATION:Gleis 22\, Hafenweg 34\, Münster\, 48155
CATEGORIES:Essen & Kochen,Ferienprogramm
ORGANIZER;CN="PG":MAILTO:info@pg-muenster.de
END:VEVENT
BEGIN:VEVENT
DTSTART;TZID=Europe/Berlin:20260324T150000
DTEND;TZID=Europe/Berlin:20260324T170000
DTSTAMP:20260420T193913
CREATED:20260306T114215Z
LAST-MODIFIED:20260306T114216Z
UID:10006075-1774364400-1774371600@pg-muenster.de
SUMMARY:Kostenloser Breakdancekurs mit Nikita
DESCRIPTION:Jeden Dienstag von 15-17 Uhr gibt Nikita bei uns einen kostenlosen Breakdance Kurs für alle ab 10 Jahren.\n\n\n\nKommt vorbei und lernt neue Moves kennen!
URL:https://pg-muenster.de/veranstaltung/kostenloser-breakdancekurs-mit-nikita-4/
LOCATION:Gleis 22\, Hafenweg 34\, Münster\, 48155
CATEGORIES:Angebote für Geflüchtete,Sport,Tanz,Wochenprogramm
ORGANIZER;CN="PG":MAILTO:info@pg-muenster.de
END:VEVENT
BEGIN:VEVENT
DTSTART;TZID=Europe/Berlin:20260323T170000
DTEND;TZID=Europe/Berlin:20260323T190000
DTSTAMP:20260420T193913
CREATED:20260306T114737Z
LAST-MODIFIED:20260306T114802Z
UID:10006077-1774285200-1774292400@pg-muenster.de
SUMMARY:Kochen mit Josi
DESCRIPTION:Jeden Montag wird in unserer Küche im Gleis zusammen gekocht. Du wolltest schon immer ein Rezept oder einen viralen Foodtrend ausprobieren? Du hast Lust kochen zu lernen und gemeinsam zu essen? Dann komm vorbei! \nWann? Montags von 17-19 Uhr \nWo? Gleis 22\, Hafenstraße 34 \nWir freuen uns auf Dich! \nFür noch aktuellere Infos folg uns doch auf Instagram oder tritt unserem WhatsApp-Channel bei.
URL:https://pg-muenster.de/veranstaltung/kochen-mit-josi-3/
LOCATION:Gleis 22\, Hafenweg 34\, Münster\, 48155
CATEGORIES:Angebote für Geflüchtete,Essen & Kochen,Wochenprogramm
ORGANIZER;CN="PG":MAILTO:info@pg-muenster.de
END:VEVENT
BEGIN:VEVENT
DTSTART;TZID=Europe/Berlin:20260317T150000
DTEND;TZID=Europe/Berlin:20260317T170000
DTSTAMP:20260420T193913
CREATED:20260306T114102Z
LAST-MODIFIED:20260306T114103Z
UID:10006074-1773759600-1773766800@pg-muenster.de
SUMMARY:Kostenloser Breakdancekurs mit Nikita
DESCRIPTION:Jeden Dienstag von 15-17 Uhr gibt Nikita bei uns einen kostenlosen Breakdance Kurs für alle ab 10 Jahren.\n\n\n\n\n\nKommt vorbei und lernt neue Moves kennen!
URL:https://pg-muenster.de/veranstaltung/kostenloser-breakdancekurs-mit-nikita-3/
LOCATION:Gleis 22\, Hafenweg 34\, Münster\, 48155
CATEGORIES:Angebote für Geflüchtete,Sport,Tanz,Wochenprogramm
ORGANIZER;CN="PG":MAILTO:info@pg-muenster.de
END:VEVENT
BEGIN:VEVENT
DTSTART;TZID=Europe/Berlin:20260316T170000
DTEND;TZID=Europe/Berlin:20260316T190000
DTSTAMP:20260420T193913
CREATED:20260306T114616Z
LAST-MODIFIED:20260306T114616Z
UID:10006076-1773680400-1773687600@pg-muenster.de
SUMMARY:Kochen mit Josi
DESCRIPTION:Jeden Montag wird in unserer Küche im Gleis zusammen gekocht. Du wolltest schon immer ein Rezept oder einen viralen Foodtrend ausprobieren? Du hast Lust kochen zu lernen und gemeinsam zu essen? Dann komm vorbei! \nWann? Montags von 17-19 Uhr \nWo? Gleis 22\, Hafenstraße 34 \nWir freuen uns auf Dich! \nFür noch aktuellere Infos folg uns doch auf Instagram oder tritt unserem WhatsApp-Channel bei.
URL:https://pg-muenster.de/veranstaltung/kochen-mit-josi-2/
LOCATION:Gleis 22\, Hafenweg 34\, Münster\, 48155
CATEGORIES:Angebote für Geflüchtete,Essen & Kochen,Wochenprogramm
ORGANIZER;CN="PG":MAILTO:info@pg-muenster.de
END:VEVENT
BEGIN:VEVENT
DTSTART;VALUE=DATE:20260314
DTEND;VALUE=DATE:20260315
DTSTAMP:20260420T193913
CREATED:20260215T230904Z
LAST-MODIFIED:20260306T120656Z
UID:10006069-1773446400-1773532799@pg-muenster.de
SUMMARY:Kinomarathon für Mädchen
DESCRIPTION:Wir machen es uns gemütlich und starten einen Kinomarathon. \nDas Angebot ist Teil unseres Mädchen-Projekts und richtet sich daher nur an Mädchen.
URL:https://pg-muenster.de/veranstaltung/kinomarathon-fuer-maedchen/
LOCATION:Gleis 22\, Hafenweg 34\, Münster\, 48155
CATEGORIES:Girls
ORGANIZER;CN="PG":MAILTO:info@pg-muenster.de
END:VEVENT
BEGIN:VEVENT
DTSTART;TZID=Europe/Berlin:20260310T150000
DTEND;TZID=Europe/Berlin:20260310T170000
DTSTAMP:20260420T193913
CREATED:20260306T113521Z
LAST-MODIFIED:20260306T113521Z
UID:10006073-1773154800-1773162000@pg-muenster.de
SUMMARY:Kostenloser Breakdancekurs mit Nikita
DESCRIPTION:Jeden Dienstag von 15-17 Uhr gibt Nikita bei uns einen kostenlosen Breakdance Kurs für alle ab 10 Jahren.\n\n\n\nKommt vorbei und lernt neue Moves kennen!
URL:https://pg-muenster.de/veranstaltung/kostenloser-breakdancekurs-mit-nikita-2/
LOCATION:Gleis 22\, Hafenweg 34\, Münster\, 48155
CATEGORIES:Angebote für Geflüchtete,Sport,Tanz,Wochenprogramm
ORGANIZER;CN="PG":MAILTO:info@pg-muenster.de
END:VEVENT
BEGIN:VEVENT
DTSTART;TZID=Europe/Berlin:20260309T170000
DTEND;TZID=Europe/Berlin:20260309T190000
DTSTAMP:20260420T193913
CREATED:20260303T144444Z
LAST-MODIFIED:20260306T114411Z
UID:10006072-1773075600-1773082800@pg-muenster.de
SUMMARY:Kochen mit Josi
DESCRIPTION:Jeden Montag wird in unserer Küche im Gleis zusammen gekocht. Du wolltest schon immer ein Rezept oder einen viralen Foodtrend ausprobieren? Du hast Lust kochen zu lernen und gemeinsam zu essen? Dann komm vorbei! \nWann? Montags von 17-19 Uhr \nWo? Gleis 22\, Hafenstraße 34 \nWir freuen uns auf Dich! \nFür noch aktuellere Infos folg uns doch auf Instagram oder tritt unserem WhatsApp-Channel bei.
URL:https://pg-muenster.de/veranstaltung/kochen-mit-josi/
LOCATION:Gleis 22\, Hafenweg 34\, Münster\, 48155
CATEGORIES:Angebote für Geflüchtete,Essen & Kochen,Wochenprogramm
ORGANIZER;CN="PG":MAILTO:info@pg-muenster.de
END:VEVENT
BEGIN:VEVENT
DTSTART;TZID=Europe/Berlin:20260303T150000
DTEND;TZID=Europe/Berlin:20260303T170000
DTSTAMP:20260420T193913
CREATED:20260303T143154Z
LAST-MODIFIED:20260303T143154Z
UID:10006071-1772550000-1772557200@pg-muenster.de
SUMMARY:Kostenloser Breakdancekurs mit Nikita
DESCRIPTION:Jeden Dienstag von 15-17 Uhr gibt Nikita bei uns einen kostenlosen Breakdance Kurs für alle ab 10 Jahren. \nKommt vorbei und lernt neue Moves kennen! \n 
URL:https://pg-muenster.de/veranstaltung/kostenloser-breakdancekurs-mit-nikita/
LOCATION:Gleis 22\, Hafenweg 34\, Münster\, 48155
CATEGORIES:Angebote für Geflüchtete,Sport,Tanz,Wochenprogramm
ORGANIZER;CN="PG":MAILTO:info@pg-muenster.de
END:VEVENT
BEGIN:VEVENT
DTSTART;VALUE=DATE:20260216
DTEND;VALUE=DATE:20260217
DTSTAMP:20260420T193913
CREATED:20260215T230245Z
LAST-MODIFIED:20260215T230245Z
UID:10006067-1771200000-1771286399@pg-muenster.de
SUMMARY:Das PG bleibt wegen Rosenmontag geschlossen
DESCRIPTION:Am Rosenmontag bleibt das PG leider geschlossen. Wir freuen uns ab Dienstag wieder auf euch!
URL:https://pg-muenster.de/veranstaltung/das-pg-bleibt-wegen-rosenmontag-geschlossen/
LOCATION:Gleis 22\, Hafenweg 34\, Münster\, 48155
ORGANIZER;CN="PG":MAILTO:info@pg-muenster.de
END:VEVENT
BEGIN:VEVENT
DTSTART;TZID=Europe/Berlin:20260213T150000
DTEND;TZID=Europe/Berlin:20260213T170000
DTSTAMP:20260420T193913
CREATED:20260215T230524Z
LAST-MODIFIED:20260215T230524Z
UID:10006068-1770994800-1771002000@pg-muenster.de
SUMMARY:Mädchentag - Wir gehen ins Kino
DESCRIPTION:Am 13.02. ist es wieder so weit und wir gehen im Rahmen unseeres Mädchenprojekts mit euch ins Kino! \nMeldet euch jetzt an!
URL:https://pg-muenster.de/veranstaltung/maedchentag-wir-gehen-ins-kino/
LOCATION:Gleis 22\, Hafenweg 34\, Münster\, 48155
CATEGORIES:Ausflug,Girls
ORGANIZER;CN="PG":MAILTO:info@pg-muenster.de
END:VEVENT
BEGIN:VEVENT
DTSTART;TZID=Europe/Berlin:20251223T160000
DTEND;TZID=Europe/Berlin:20251223T190000
DTSTAMP:20260420T193913
CREATED:20251215T230049Z
LAST-MODIFIED:20251215T230050Z
UID:10006066-1766505600-1766516400@pg-muenster.de
SUMMARY:Last Minute Weihnachtsgeschenke basteln
DESCRIPTION:Du brauchst noch ein Weihnachtsgeschenk? Dann komm in unsere Last-Minute-Weihnachtswerkstatt am 23. Dezember und bastle mit uns Geschenke! \nWann? 23. Dezember ab 16 Uhr \nWo? Gleis 22
URL:https://pg-muenster.de/veranstaltung/last-minute-weihnachtsgeschenke-basteln/
LOCATION:Gleis 22\, Hafenweg 34\, Münster\, 48155
CATEGORIES:Angebote für Geflüchtete,Kreativ
ATTACH;FMTTYPE=image/png:https://pg-muenster.de/wp-content/uploads/2025/12/Last-Minute.png
ORGANIZER;CN="PG":MAILTO:info@pg-muenster.de
END:VEVENT
BEGIN:VEVENT
DTSTART;TZID=Europe/Berlin:20251222T160000
DTEND;TZID=Europe/Berlin:20251222T200000
DTSTAMP:20260420T193913
CREATED:20251215T212858Z
LAST-MODIFIED:20251215T212858Z
UID:10006065-1766419200-1766433600@pg-muenster.de
SUMMARY:Gemeinsam Plätzchen backen
DESCRIPTION:Wir backen gemeinsam Plätzchen! \nAm Montag dem 22. Dezember ab 16 Uhr wollen wir mit euch Teig vorbereiten\, Plätzchen ausstechen und verzieren und natürlich anschließend genießen! \nWo? Gleis 22\, Hafenstraße 34\, 48153 Münster \nWir freuen uns auf euch!
URL:https://pg-muenster.de/veranstaltung/gemeinsam-plaetzchen-backen/
LOCATION:Gleis 22\, Hafenweg 34\, Münster\, 48155
CATEGORIES:Angebote für Geflüchtete,Essen & Kochen,Kreativ,Wochenprogramm
ATTACH;FMTTYPE=image/png:https://pg-muenster.de/wp-content/uploads/2025/12/Plaetzchen-backen-2.png
ORGANIZER;CN="PG":MAILTO:info@pg-muenster.de
END:VEVENT
BEGIN:VEVENT
DTSTART;TZID=Europe/Berlin:20251218T180000
DTEND;TZID=Europe/Berlin:20251218T220000
DTSTAMP:20260420T193913
CREATED:20251130T082245Z
LAST-MODIFIED:20251130T082245Z
UID:10006062-1766080800-1766095200@pg-muenster.de
SUMMARY:PG Weihnachtsfeier
DESCRIPTION:Wir laden euch herzlich zu unserer Weihnachtsfeier am 18. Dezember ab 18 Uhr im Gleis 22 ein!
URL:https://pg-muenster.de/veranstaltung/pg-weihnachtsfeier/
LOCATION:Gleis 22\, Hafenweg 34\, Münster\, 48155
ATTACH;FMTTYPE=image/png:https://pg-muenster.de/wp-content/uploads/2025/11/1.png
ORGANIZER;CN="PG":MAILTO:info@pg-muenster.de
END:VEVENT
BEGIN:VEVENT
DTSTART;VALUE=DATE:20251020
DTEND;VALUE=DATE:20251024
DTSTAMP:20260420T193913
CREATED:20251016T131858Z
LAST-MODIFIED:20251016T131858Z
UID:10006060-1760918400-1761263999@pg-muenster.de
SUMMARY:Herbstfereienprogramm Woche 2
DESCRIPTION:
URL:https://pg-muenster.de/veranstaltung/herbstfereienprogramm-woche-2/
LOCATION:Gleis 22\, Hafenweg 34\, Münster\, 48155
CATEGORIES:Ferienprogramm
ATTACH;FMTTYPE=image/png:https://pg-muenster.de/wp-content/uploads/2025/10/3.png
ORGANIZER;CN="PG":MAILTO:info@pg-muenster.de
END:VEVENT
BEGIN:VEVENT
DTSTART;TZID=Europe/Berlin:20251013T170000
DTEND;TZID=Europe/Berlin:20251013T200000
DTSTAMP:20260420T193913
CREATED:20250926T142915Z
LAST-MODIFIED:20250926T142915Z
UID:10004225-1760374800-1760385600@pg-muenster.de
SUMMARY:Ferienauftakt mit Grillen
DESCRIPTION:Wir beginnen die Ferien wie immer ganz traditionell mit einem tollen Grillnachmittag! \nAb 17 geht es los\, wir haben Spiele vorbereitet und wollen nochmal den Hof vor dem Gleis nutzen. Bei schlechtem Wetter können wir nach drinnen ausweichen. \nAlso kommt vorbei und beginnt die Ferien mit uns!
URL:https://pg-muenster.de/veranstaltung/ferienauftakt-mit-grillen-2/
LOCATION:Gleis 22\, Hafenweg 34\, Münster\, 48155
CATEGORIES:Essen & Kochen,Ferienprogramm
ORGANIZER;CN="PG":MAILTO:info@pg-muenster.de
END:VEVENT
BEGIN:VEVENT
DTSTART;VALUE=DATE:20251013
DTEND;VALUE=DATE:20251018
DTSTAMP:20260420T193913
CREATED:20251016T131815Z
LAST-MODIFIED:20251016T131816Z
UID:10006059-1760313600-1760745599@pg-muenster.de
SUMMARY:Herbstferienprogramm Woche 1
DESCRIPTION:
URL:https://pg-muenster.de/veranstaltung/herbstferienprogramm-woche-1/
LOCATION:Gleis 22\, Hafenweg 34\, Münster\, 48155
CATEGORIES:Ferienprogramm
ATTACH;FMTTYPE=image/png:https://pg-muenster.de/wp-content/uploads/2025/10/2.png
ORGANIZER;CN="PG":MAILTO:info@pg-muenster.de
END:VEVENT
BEGIN:VEVENT
DTSTART;VALUE=DATE:20250807
DTEND;VALUE=DATE:20250809
DTSTAMP:20260420T193913
CREATED:20250725T101020Z
LAST-MODIFIED:20250730T164914Z
UID:10004223-1754524800-1754697599@pg-muenster.de
SUMMARY:Grafitti Workshop!
DESCRIPTION:Du wolltest dich schon immer mal im taggen und Grafitti-Sprühen ausprobieren? Das kannst bei unserem Workshop am 07. & 08. Juli machen! \nDer Workshop ist in zwei Teile aufgeteilt und beginnt am Donnerstag um 16 Uhr mit einem Skizzentag\, wir erstellen gemeinsam Entwürfe und ihr lernt worauf es bei einem guten Grafitti ankommt. Am Freitag um 13 Uhr geht es dann an die Sprühdosen und wir setzen eure Entwürfe direkt um. \nDas Workshop ist kostenlos\, bitte melde dich vorher bei uns an\, damit wir mit dir planen können. \nFür alle aktuellen Infos folg uns doch auf Instagram oder tritt unserem WhatsApp-Channel bei. \n 
URL:https://pg-muenster.de/veranstaltung/grafitti-workshop/
LOCATION:Gleis 22\, Hafenweg 34\, Münster\, 48155
CATEGORIES:Ferienprogramm,Kreativ
ATTACH;FMTTYPE=image/png:https://pg-muenster.de/wp-content/uploads/2025/07/Grafitti-Workshop-2.png
ORGANIZER;CN="PG":MAILTO:info@pg-muenster.de
END:VEVENT
BEGIN:VEVENT
DTSTART;TZID=Europe/Berlin:20250806T110000
DTEND;TZID=Europe/Berlin:20250806T190000
DTSTAMP:20260420T193913
CREATED:20250725T101420Z
LAST-MODIFIED:20250725T101420Z
UID:10004224-1754478000-1754506800@pg-muenster.de
SUMMARY:Ausflug zum Naturzoo in Rheine
DESCRIPTION:Ab gehts in den Naturzoo nach Rheine! \nLasst uns gemeinsam Tiere beobachten und einen Tag in der Natur verbringen. Wir treffen uns dafür um 11:00 Uhr am Gleis 22 (Hafenstraße 34) und fahren gemeinsam mit dem Bulli los\, zurück sind wir gegen 19 Uhr\, wieder am Gleis 22. \nDas Angebot kostet 3€\, bitte melde dich vorher bei uns an\, damit wir mit dir planen können. \nSolltest du noch nicht 18 sein\, benötigen wir eine unterschriebene Einverständniserklärung deiner Eltern oder Erziehungsberechtigten. Diese kannst du uns bei Anmeldung per Mail zuschicken oder ausgefüllt mitbringen. \nWir freuen uns auf Dich! \nFür alle aktuellen Infos folg uns doch auf Instagram oder tritt unserem WhatsApp-Channel bei.
URL:https://pg-muenster.de/veranstaltung/ausflug-zum-naturzoo-in-rheine/
LOCATION:Gleis 22\, Hafenweg 34\, Münster\, 48155
CATEGORIES:Ausflug,Ferienprogramm
ORGANIZER;CN="PG":MAILTO:info@pg-muenster.de
END:VEVENT
BEGIN:VEVENT
DTSTART;VALUE=DATE:20250804
DTEND;VALUE=DATE:20250809
DTSTAMP:20260420T193913
CREATED:20250725T095202Z
LAST-MODIFIED:20250725T095202Z
UID:10004164-1754265600-1754697599@pg-muenster.de
SUMMARY:Ferienprogramm Woche 4
DESCRIPTION:
URL:https://pg-muenster.de/veranstaltung/ferienprogramm-woche-4/
LOCATION:Gleis 22\, Hafenweg 34\, Münster\, 48155
CATEGORIES:Ferienprogramm
ATTACH;FMTTYPE=image/png:https://pg-muenster.de/wp-content/uploads/2025/07/5.png
ORGANIZER;CN="PG":MAILTO:info@pg-muenster.de
END:VEVENT
BEGIN:VEVENT
DTSTART;TZID=Europe/Berlin:20250731T160000
DTEND;TZID=Europe/Berlin:20250731T190000
DTSTAMP:20260420T193913
CREATED:20250725T100215Z
LAST-MODIFIED:20250725T100215Z
UID:10004222-1753977600-1753988400@pg-muenster.de
SUMMARY:Keramik bemalen
DESCRIPTION:Du wolltest schon immer deinen eigenen Teller\, deine Tasse oder Schüssel gestalten? Dann komm vorbei und bemal mit uns Keramik! \nLos gehts am Donnerstag um 16 Uhr\, das Angebot ist kostenlos. \nWir freuen uns auf dich!
URL:https://pg-muenster.de/veranstaltung/keramik-bemalen/
LOCATION:Gleis 22\, Hafenweg 34\, Münster\, 48155
CATEGORIES:Ferienprogramm,Kreativ
ORGANIZER;CN="PG":MAILTO:info@pg-muenster.de
END:VEVENT
BEGIN:VEVENT
DTSTART;TZID=Europe/Berlin:20250730T140000
DTEND;TZID=Europe/Berlin:20250730T180000
DTSTAMP:20260420T193913
CREATED:20250725T095009Z
LAST-MODIFIED:20250725T095011Z
UID:10004162-1753884000-1753898400@pg-muenster.de
SUMMARY:Tretboot fahren und Picknick am Aasee
DESCRIPTION:Ahoi und ab auf den Aasee! Wir gehen Tretboot fahren und machen abschließend noch ein Picknick mit Seeblick. \nWir treffen uns dafür um 14:00 Uhr am Gleis 22 (Hafenstraße 34) und fahren gemeinsam zum See\, nach dem Picknick ist der Ausflug um 18 Uhr beendet. \nDas Angebot kostet 3€\, bitte melde dich vorher bei uns an\, damit wir mit dir planen können. \nSolltest du noch nicht 18 sein\, benötigen wir eine unterschriebene  Einverständniserklärung deiner Eltern oder Erziehungsberechtigten. Diese kannst du uns bei Anmeldung per Mail zuschicken oder ausgefüllt mitbringen. \nWir freuen uns auf Dich! \nFür alle aktuellen Infos folg uns doch auf Instagram oder tritt unserem WhatsApp-Channel bei.
URL:https://pg-muenster.de/veranstaltung/tretboot-fahren-und-picknick-am-aasee/
LOCATION:Gleis 22\, Hafenweg 34\, Münster\, 48155
CATEGORIES:Ausflug,Essen & Kochen,Ferienprogramm,Sport
ORGANIZER;CN="PG":MAILTO:info@pg-muenster.de
END:VEVENT
BEGIN:VEVENT
DTSTART;TZID=Europe/Berlin:20250729T150000
DTEND;TZID=Europe/Berlin:20250729T200000
DTSTAMP:20260420T193913
CREATED:20250725T094701Z
LAST-MODIFIED:20250725T094701Z
UID:10004161-1753801200-1753819200@pg-muenster.de
SUMMARY:Ausflug ins Freibad 🏊‍♀️
DESCRIPTION:Wir fahren ins Freibad! \nKommt mit uns schwimmen\, planschen und in der Sonne liegen. Wir treffen uns dafür um 15:00 Uhr am Gleis 22 (Hafenstraße 34) und fahren gemeinsam ins Freibad. \nDas Angebot kostet 3€\, bitte melde dich vorher bei uns an\, damit wir mit dir planen können. \nSolltest du noch nicht 18 sein\, benötigen wir eine unterschriebene Einverständniserklärung deiner Eltern oder Erziehungsberechtigten. Diese kannst du uns bei Anmeldung per Mail zuschicken oder ausgefüllt mitbringen. Für eine Teilnahme am Ausflug musst du schwimmen können. \nWir freuen uns auf Dich! \nFür alle aktuellen Infos folg uns doch auf Instagram oder tritt unserem WhatsApp-Channel bei.
URL:https://pg-muenster.de/veranstaltung/ausflug-ins-freibad-%f0%9f%8f%8a%e2%99%80%ef%b8%8f/
LOCATION:Gleis 22\, Hafenweg 34\, Münster\, 48155
CATEGORIES:Ausflug,Ferienprogramm,Sport
ORGANIZER;CN="PG":MAILTO:info@pg-muenster.de
END:VEVENT
BEGIN:VEVENT
DTSTART;TZID=Europe/Berlin:20250728T100000
DTEND;TZID=Europe/Berlin:20250728T180000
DTSTAMP:20260420T193913
CREATED:20250725T093420Z
LAST-MODIFIED:20250725T093420Z
UID:10004086-1753696800-1753725600@pg-muenster.de
SUMMARY:Ausflug zum Kettelerhof 🎢
DESCRIPTION:Wir machen einen Ausflug zum Kettelerhof! \nKommt mit uns in den Freizeitpark mit Wildtiergehege in Haltern am See. Wir treffen uns dafür um 10:00 Uhr am Gleis 22 (Hafenstraße 34) und fahren gemeinsam mit dem Bulli los\, zurück sind wir gegen 18 Uhr\, wieder am Gleis 22. \nDas Angebot kostet 6€\, bitte melde dich vorher bei uns an\, damit wir mit dir planen können. \nSolltest du noch nicht 18 sein\, benötigen wir eine unterschriebene Einverständniserklärung deiner Eltern oder Erziehungsberechtigten. Diese kannst du uns bei Anmeldung per Mail zuschicken oder ausgefüllt mitbringen. \nWir freuen uns auf Dich! \nFür alle aktuellen Infos folg uns doch auf Instagram oder tritt unserem WhatsApp-Channel bei.
URL:https://pg-muenster.de/veranstaltung/ausflug-zum-kettelerhof-%f0%9f%8e%a2/
LOCATION:Gleis 22\, Hafenweg 34\, Münster\, 48155
CATEGORIES:Ausflug,Ferienprogramm
ORGANIZER;CN="PG":MAILTO:info@pg-muenster.de
END:VEVENT
BEGIN:VEVENT
DTSTART;VALUE=DATE:20250728
DTEND;VALUE=DATE:20250801
DTSTAMP:20260420T193913
CREATED:20250725T092005Z
LAST-MODIFIED:20250725T092643Z
UID:10004068-1753660800-1754006399@pg-muenster.de
SUMMARY:Ferienprogramm Woche 3
DESCRIPTION:Komm vorbei\, wir haben viele kreative\, lustige und sportliche Angebote für Dich!
URL:https://pg-muenster.de/veranstaltung/ferienprogramm-woche-3/
LOCATION:Gleis 22\, Hafenweg 34\, Münster\, 48155
CATEGORIES:Ferienprogramm
ATTACH;FMTTYPE=image/png:https://pg-muenster.de/wp-content/uploads/2025/07/4.png
ORGANIZER;CN="PG":MAILTO:info@pg-muenster.de
END:VEVENT
BEGIN:VEVENT
DTSTART;VALUE=DATE:20250721
DTEND;VALUE=DATE:20250726
DTSTAMP:20260420T193913
CREATED:20250725T095126Z
LAST-MODIFIED:20250725T095126Z
UID:10004163-1753056000-1753487999@pg-muenster.de
SUMMARY:Ferienprogramm Woche 2
DESCRIPTION:
URL:https://pg-muenster.de/veranstaltung/ferienprogramm-woche-2/
LOCATION:Gleis 22\, Hafenweg 34\, Münster\, 48155
CATEGORIES:Ferienprogramm
ATTACH;FMTTYPE=image/png:https://pg-muenster.de/wp-content/uploads/2025/07/3.png
ORGANIZER;CN="PG":MAILTO:info@pg-muenster.de
END:VEVENT
END:VCALENDAR