BEGIN:VCALENDAR
VERSION:2.0
PRODID:-//Jugendzentrum im Paul-Gerhardt Haus - ECPv6.15.20//NONSGML v1.0//EN
CALSCALE:GREGORIAN
METHOD:PUBLISH
X-ORIGINAL-URL:https://pg-muenster.de
X-WR-CALDESC:Veranstaltungen für Jugendzentrum im Paul-Gerhardt Haus
REFRESH-INTERVAL;VALUE=DURATION:PT1H
X-Robots-Tag:noindex
X-PUBLISHED-TTL:PT1H
BEGIN:VTIMEZONE
TZID:Europe/Berlin
BEGIN:DAYLIGHT
TZOFFSETFROM:+0100
TZOFFSETTO:+0200
TZNAME:CEST
DTSTART:20230326T010000
END:DAYLIGHT
BEGIN:STANDARD
TZOFFSETFROM:+0200
TZOFFSETTO:+0100
TZNAME:CET
DTSTART:20231029T010000
END:STANDARD
BEGIN:DAYLIGHT
TZOFFSETFROM:+0100
TZOFFSETTO:+0200
TZNAME:CEST
DTSTART:20240331T010000
END:DAYLIGHT
BEGIN:STANDARD
TZOFFSETFROM:+0200
TZOFFSETTO:+0100
TZNAME:CET
DTSTART:20241027T010000
END:STANDARD
BEGIN:DAYLIGHT
TZOFFSETFROM:+0100
TZOFFSETTO:+0200
TZNAME:CEST
DTSTART:20250330T010000
END:DAYLIGHT
BEGIN:STANDARD
TZOFFSETFROM:+0200
TZOFFSETTO:+0100
TZNAME:CET
DTSTART:20251026T010000
END:STANDARD
END:VTIMEZONE
BEGIN:VEVENT
DTSTART;TZID=Europe/Berlin:20240724T150000
DTEND;TZID=Europe/Berlin:20240724T200000
DTSTAMP:20260425T233942
CREATED:20240618T165135Z
LAST-MODIFIED:20240618T165135Z
UID:10001105-1721833200-1721851200@pg-muenster.de
SUMMARY:Offenes Jugendcafé
DESCRIPTION:Von Montag bis Donnerstag ist das Café für euch von 15 bis 20 Uhr geöffnet. Kommt vorbei zum chillen\, zocken und quatschen. Wir freuen uns auf euch!
URL:https://pg-muenster.de/veranstaltung/offenes-jugendcafe-11/
LOCATION:Gleis 22\, Hafenweg 34\, Münster\, 48155
CATEGORIES:Angebote für Geflüchtete,Ferienprogramm
ORGANIZER;CN="PG":MAILTO:info@pg-muenster.de
END:VEVENT
BEGIN:VEVENT
DTSTART;TZID=Europe/Berlin:20240724T120000
DTEND;TZID=Europe/Berlin:20240724T170000
DTSTAMP:20260425T233942
CREATED:20240618T164818Z
LAST-MODIFIED:20240618T164819Z
UID:10001102-1721822400-1721840400@pg-muenster.de
SUMMARY:Ausflug in den Kletterwald 🧗🏻
DESCRIPTION:Wir fahren in den Kletterwald um mit euch in den Baumkronen herumzuklettern! \nWann? Mittwoch\, 24.07. von 12-17 Uhr \nWo? Abfahrt ist am Gleis 22\, Hafenstraße 34\, 48153 Münster \nMeldet euch bitte vorher über Instagram\, Mail\, Telefon oder persönlich bei uns an! \nDer Ausflug kostet 3€ pro Person
URL:https://pg-muenster.de/veranstaltung/ausflug-in-den-kletterwald-%f0%9f%a7%97%f0%9f%8f%bb/
LOCATION:Gleis 22\, Hafenweg 34\, Münster\, 48155
CATEGORIES:Ausflug,Ferienprogramm,Sport
ORGANIZER;CN="PG":MAILTO:info@pg-muenster.de
END:VEVENT
BEGIN:VEVENT
DTSTART;TZID=Europe/Berlin:20240723T160000
DTEND;TZID=Europe/Berlin:20240723T190000
DTSTAMP:20260425T233942
CREATED:20240618T164518Z
LAST-MODIFIED:20240618T164521Z
UID:10001101-1721750400-1721761200@pg-muenster.de
SUMMARY:T-Shirts Batiken 👕
DESCRIPTION:Wir werden mit euch kreativ und batiken T-Shirts und Tops! \nWann? Dienstag\, 23.07. von 16-19 Uhr \nWo? Gleis 22\, Hafenstraße 34\, 48153 Münster \n 
URL:https://pg-muenster.de/veranstaltung/t-shirts-batiken-%f0%9f%91%95/
LOCATION:Gleis 22\, Hafenweg 34\, Münster\, 48155
CATEGORIES:Ferienprogramm,Kreativ
ORGANIZER;CN="PG":MAILTO:info@pg-muenster.de
END:VEVENT
BEGIN:VEVENT
DTSTART;TZID=Europe/Berlin:20240723T150000
DTEND;TZID=Europe/Berlin:20240723T200000
DTSTAMP:20260425T233942
CREATED:20240618T165104Z
LAST-MODIFIED:20240618T165104Z
UID:10001104-1721746800-1721764800@pg-muenster.de
SUMMARY:Offenes Jugendcafé
DESCRIPTION:Von Montag bis Donnerstag ist das Café für euch von 15 bis 20 Uhr geöffnet. Kommt vorbei zum chillen\, zocken und quatschen. Wir freuen uns auf euch!
URL:https://pg-muenster.de/veranstaltung/offenes-jugendcafe-10/
LOCATION:Gleis 22\, Hafenweg 34\, Münster\, 48155
CATEGORIES:Angebote für Geflüchtete,Ferienprogramm
ORGANIZER;CN="PG":MAILTO:info@pg-muenster.de
END:VEVENT
BEGIN:VEVENT
DTSTART;TZID=Europe/Berlin:20240722T150000
DTEND;TZID=Europe/Berlin:20240722T200000
DTSTAMP:20260425T233942
CREATED:20240618T165043Z
LAST-MODIFIED:20240618T165043Z
UID:10001103-1721660400-1721678400@pg-muenster.de
SUMMARY:Offenes Jugendcafé
DESCRIPTION:Von Montag bis Donnerstag ist das Café für euch von 15 bis 20 Uhr geöffnet. Kommt vorbei zum chillen\, zocken und quatschen. Wir freuen uns auf euch!
URL:https://pg-muenster.de/veranstaltung/offenes-jugendcafe-9/
LOCATION:Gleis 22\, Hafenweg 34\, Münster\, 48155
CATEGORIES:Angebote für Geflüchtete,Ferienprogramm
ORGANIZER;CN="PG":MAILTO:info@pg-muenster.de
END:VEVENT
BEGIN:VEVENT
DTSTART;TZID=Europe/Berlin:20240720T100000
DTEND;TZID=Europe/Berlin:20240720T190000
DTSTAMP:20260425T233942
CREATED:20240618T163603Z
LAST-MODIFIED:20240618T163604Z
UID:10001099-1721469600-1721502000@pg-muenster.de
SUMMARY:Ausflug in den Safaripark! 🐯
DESCRIPTION:Wir fahren mit euch in den Safaripark! \nWann? Samstag\, 20.07. 10-19 Uhr \nWo? Wir treffen uns zur Abfahrt am Gleis 22\, Hafenstr. 34\, 48153 Münster \nMeldet euch bitte vorher über Instagram\, Mail\, Telefon oder persönlich bei uns an! \nDer Ausflug kostet 10€
URL:https://pg-muenster.de/veranstaltung/ausflug-in-den-safaripark-%f0%9f%90%af/
LOCATION:Gleis 22\, Hafenweg 34\, Münster\, 48155
CATEGORIES:Ausflug,Ferienprogramm
ORGANIZER;CN="PG":MAILTO:info@pg-muenster.de
END:VEVENT
BEGIN:VEVENT
DTSTART;TZID=Europe/Berlin:20240718T150000
DTEND;TZID=Europe/Berlin:20240718T200000
DTSTAMP:20260425T233942
CREATED:20240618T135610Z
LAST-MODIFIED:20240618T135610Z
UID:10001095-1721314800-1721332800@pg-muenster.de
SUMMARY:Offenes Jugendcafé
DESCRIPTION:Von Montag bis Donnerstag ist das Café für euch von 15 bis 20 Uhr geöffnet. Kommt vorbei zum chillen\, zocken und quatschen. Wir freuen uns auf euch!
URL:https://pg-muenster.de/veranstaltung/offenes-jugendcafe-8/
LOCATION:Gleis 22\, Hafenweg 34\, Münster\, 48155
CATEGORIES:Angebote für Geflüchtete,Ferienprogramm
ORGANIZER;CN="PG":MAILTO:info@pg-muenster.de
END:VEVENT
BEGIN:VEVENT
DTSTART;TZID=Europe/Berlin:20240718T120000
DTEND;TZID=Europe/Berlin:20240718T153000
DTSTAMP:20260425T233942
CREATED:20240618T163122Z
LAST-MODIFIED:20240618T163159Z
UID:10001098-1721304000-1721316600@pg-muenster.de
SUMMARY:Tretboot fahren mit kleinem Picknick 🚣‍♂️🧺
DESCRIPTION:Wir gehen mit euch Tretbootfahren und machen dann noch ein kleines Picknick! \nWann? Donnerstag\, 18.07. von 12-15:30 Uhr \nWo? Treffen am Gleis 22\, Hafenstraße 34\, 48153 Münster. Wir fahren dann gemeinsam zum Tretbooverleih \nFür alle Ausflüge gilt: bitte vorher bei uns anmelden. Das geht per Telefon\, Mail\, Instagram oder persönlich. \nKosten: 3€
URL:https://pg-muenster.de/veranstaltung/tretboot-fahren-mit-kleinem-picknick-%f0%9f%9a%a3%e2%99%82%ef%b8%8f%f0%9f%a7%ba/
LOCATION:Gleis 22\, Hafenweg 34\, Münster\, 48155
CATEGORIES:Ausflug,Essen & Kochen,Ferienprogramm,Sport
ORGANIZER;CN="PG":MAILTO:info@pg-muenster.de
END:VEVENT
BEGIN:VEVENT
DTSTART;TZID=Europe/Berlin:20240717T180000
DTEND;TZID=Europe/Berlin:20240717T210000
DTSTAMP:20260425T233942
CREATED:20240618T162612Z
LAST-MODIFIED:20240618T162613Z
UID:10001097-1721239200-1721250000@pg-muenster.de
SUMMARY:Kinoabend 🎬🍿
DESCRIPTION:Wir machen mit euch einen Kinoabend! \nWann? Mittwoch\, 17.07. ab 18 Uhr \nWo? Im Gleis 22\, Hafenstraße 34\, 48153 Münster
URL:https://pg-muenster.de/veranstaltung/kinoabend-%f0%9f%8e%ac%f0%9f%8d%bf/
LOCATION:Gleis 22\, Hafenweg 34\, Münster\, 48155
CATEGORIES:Ferienprogramm
ORGANIZER;CN="PG":MAILTO:info@pg-muenster.de
END:VEVENT
BEGIN:VEVENT
DTSTART;TZID=Europe/Berlin:20240717T150000
DTEND;TZID=Europe/Berlin:20240717T200000
DTSTAMP:20260425T233942
CREATED:20240618T135520Z
LAST-MODIFIED:20240618T135520Z
UID:10001094-1721228400-1721246400@pg-muenster.de
SUMMARY:Offenes Jugendcafé
DESCRIPTION:Von Montag bis Donnerstag ist das Café für euch von 15 bis 20 Uhr geöffnet. Kommt vorbei zum chillen\, zocken und quatschen. Wir freuen uns auf euch!
URL:https://pg-muenster.de/veranstaltung/offenes-jugendcafe-7/
LOCATION:Gleis 22\, Hafenweg 34\, Münster\, 48155
CATEGORIES:Angebote für Geflüchtete,Ferienprogramm
ORGANIZER;CN="PG":MAILTO:info@pg-muenster.de
END:VEVENT
BEGIN:VEVENT
DTSTART;TZID=Europe/Berlin:20240716T150000
DTEND;TZID=Europe/Berlin:20240716T200000
DTSTAMP:20260425T233942
CREATED:20240618T135458Z
LAST-MODIFIED:20240618T135458Z
UID:10001093-1721142000-1721160000@pg-muenster.de
SUMMARY:Offenes Jugendcafé
DESCRIPTION:Von Montag bis Donnerstag ist das Café für euch von 15 bis 20 Uhr geöffnet. Kommt vorbei zum chillen\, zocken und quatschen. Wir freuen uns auf euch!
URL:https://pg-muenster.de/veranstaltung/offenes-jugendcafe-6/
LOCATION:Gleis 22\, Hafenweg 34\, Münster\, 48155
CATEGORIES:Angebote für Geflüchtete,Ferienprogramm
ORGANIZER;CN="PG":MAILTO:info@pg-muenster.de
END:VEVENT
BEGIN:VEVENT
DTSTART;TZID=Europe/Berlin:20240715T160000
DTEND;TZID=Europe/Berlin:20240715T200000
DTSTAMP:20260425T233942
CREATED:20240618T162405Z
LAST-MODIFIED:20240618T162405Z
UID:10001096-1721059200-1721073600@pg-muenster.de
SUMMARY:Pizza backen 🍕
DESCRIPTION:Wir backen gemeinsam Pizza und lassen uns diese in toller Gesellschaft schmecken! \nWann? Montag\, 15.07. von 16-20 Uhr \nWo? Gleis 22\, Hafenstraße 34\, 48153 Münster
URL:https://pg-muenster.de/veranstaltung/pizza-backen-%f0%9f%8d%95-3/
LOCATION:Gleis 22\, Hafenweg 34\, Münster\, 48155
CATEGORIES:Essen & Kochen,Ferienprogramm
ORGANIZER;CN="PG":MAILTO:info@pg-muenster.de
END:VEVENT
BEGIN:VEVENT
DTSTART;TZID=Europe/Berlin:20240715T150000
DTEND;TZID=Europe/Berlin:20240715T200000
DTSTAMP:20260425T233942
CREATED:20240618T135436Z
LAST-MODIFIED:20240618T135436Z
UID:10001092-1721055600-1721073600@pg-muenster.de
SUMMARY:Offenes Jugendcafé
DESCRIPTION:Von Montag bis Donnerstag ist das Café für euch von 15 bis 20 Uhr geöffnet. Kommt vorbei zum chillen\, zocken und quatschen. Wir freuen uns auf euch!
URL:https://pg-muenster.de/veranstaltung/offenes-jugendcafe-5/
LOCATION:Gleis 22\, Hafenweg 34\, Münster\, 48155
CATEGORIES:Angebote für Geflüchtete,Ferienprogramm
ORGANIZER;CN="PG":MAILTO:info@pg-muenster.de
END:VEVENT
BEGIN:VEVENT
DTSTART;TZID=Europe/Berlin:20240712T100000
DTEND;TZID=Europe/Berlin:20240712T180000
DTSTAMP:20260425T233942
CREATED:20240618T134122Z
LAST-MODIFIED:20240618T163230Z
UID:10001087-1720778400-1720807200@pg-muenster.de
SUMMARY:Wir gehen Schwimmen im DÜB 🏊‍♀️
DESCRIPTION:Wir fahren mit euch ins Freizeitbad! Rutschen\, Wellness und Wasserspaß! \nWann? Freitag\, 12.07. von 10-18 Uhr \nWo? Wir treffen uns zur Abfahrt am Gleis 22 und fahren dann gemeinsam ins DÜB \nWer? um mitzufahren braucht ihr das Seepferdchen \nMeldet euch bitte vorher über Instagram\, Mail\, Telefon oder persönlich bei uns an! \nDer Ausflug kostet 3€ pro Person.
URL:https://pg-muenster.de/veranstaltung/wir-gehen-schwimmen-im-dueb-%f0%9f%8f%8a%e2%99%80%ef%b8%8f/
LOCATION:Gleis 22\, Hafenweg 34\, Münster\, 48155
CATEGORIES:Ausflug,Ferienprogramm,Sport
ORGANIZER;CN="PG":MAILTO:info@pg-muenster.de
END:VEVENT
BEGIN:VEVENT
DTSTART;TZID=Europe/Berlin:20240711T150000
DTEND;TZID=Europe/Berlin:20240711T200000
DTSTAMP:20260425T233942
CREATED:20240618T134652Z
LAST-MODIFIED:20240618T164847Z
UID:10001091-1720710000-1720728000@pg-muenster.de
SUMMARY:Offenes Jugendcafé
DESCRIPTION:Von Montag bis Donnerstag ist das Café für euch von 15 bis 20 Uhr geöffnet. Kommt vorbei zum chillen\, zocken und quatschen. Wir freuen uns auf euch!
URL:https://pg-muenster.de/veranstaltung/offenes-jugendcafe-4/
LOCATION:Gleis 22\, Hafenweg 34\, Münster\, 48155
CATEGORIES:Angebote für Geflüchtete,Ferienprogramm
ORGANIZER;CN="PG":MAILTO:info@pg-muenster.de
END:VEVENT
BEGIN:VEVENT
DTSTART;TZID=Europe/Berlin:20240710T160000
DTEND;TZID=Europe/Berlin:20240710T190000
DTSTAMP:20260425T233942
CREATED:20240618T133524Z
LAST-MODIFIED:20240618T133524Z
UID:10001086-1720627200-1720638000@pg-muenster.de
SUMMARY:T-Shirts bedrucken – Plotten! 👕
DESCRIPTION:Ihr wolltet euch schon immer ein eigenes T-Shirt gestalten? Dann kommt vorbei zum plotten und werdet mit uns kreativ! \nWann? Mittwoch\, 10.07. von 16-19 Uhr \nWo? Gleis 22
URL:https://pg-muenster.de/veranstaltung/t-shirts-bedrucken-plotten-%f0%9f%91%95-2/
LOCATION:Gleis 22\, Hafenweg 34\, Münster\, 48155
CATEGORIES:Ferienprogramm,Kreativ
ORGANIZER;CN="PG":MAILTO:info@pg-muenster.de
END:VEVENT
BEGIN:VEVENT
DTSTART;TZID=Europe/Berlin:20240710T150000
DTEND;TZID=Europe/Berlin:20240710T200000
DTSTAMP:20260425T233942
CREATED:20240618T134630Z
LAST-MODIFIED:20240618T134630Z
UID:10001090-1720623600-1720641600@pg-muenster.de
SUMMARY:Offenes Jugendcafé
DESCRIPTION:Von Montag bis Donnerstag ist das Café für euch von 15 bis 20 Uhr geöffnet. Kommt vorbei zum chillen\, zocken und quatschen. Wir freuen uns auf euch!
URL:https://pg-muenster.de/veranstaltung/offenes-jugendcafe-3/
LOCATION:Gleis 22\, Hafenweg 34\, Münster\, 48155
CATEGORIES:Angebote für Geflüchtete,Ferienprogramm
ORGANIZER;CN="PG":MAILTO:info@pg-muenster.de
END:VEVENT
BEGIN:VEVENT
DTSTART;TZID=Europe/Berlin:20240709T160000
DTEND;TZID=Europe/Berlin:20240709T190000
DTSTAMP:20260425T233942
CREATED:20240618T133051Z
LAST-MODIFIED:20240618T133051Z
UID:10001085-1720540800-1720551600@pg-muenster.de
SUMMARY:T-Shirts bedrucken - Plotten! 👕
DESCRIPTION:Ihr wolltet euch schon immer ein eigenes T-Shirt gestalten? Dann kommt vorbei zum plotten und werdet mit uns kreativ! \nWann? Dienstag\, 09.07. von 16-19 Uhr \nWo? Gleis 22 \n 
URL:https://pg-muenster.de/veranstaltung/t-shirts-bedrucken-plotten-%f0%9f%91%95/
LOCATION:Gleis 22\, Hafenweg 34\, Münster\, 48155
CATEGORIES:Ferienprogramm,Kreativ
ORGANIZER;CN="PG":MAILTO:info@pg-muenster.de
END:VEVENT
BEGIN:VEVENT
DTSTART;TZID=Europe/Berlin:20240709T150000
DTEND;TZID=Europe/Berlin:20240709T200000
DTSTAMP:20260425T233942
CREATED:20240618T134606Z
LAST-MODIFIED:20240618T134606Z
UID:10001089-1720537200-1720555200@pg-muenster.de
SUMMARY:Offenes Jugendcafé
DESCRIPTION:Von Montag bis Donnerstag ist das Café für euch von 15 bis 20 Uhr geöffnet. Kommt vorbei zum chillen\, zocken und quatschen. Wir freuen uns auf euch!
URL:https://pg-muenster.de/veranstaltung/offenes-jugendcafe-2/
LOCATION:Gleis 22\, Hafenweg 34\, Münster\, 48155
CATEGORIES:Angebote für Geflüchtete,Ferienprogramm
ORGANIZER;CN="PG":MAILTO:info@pg-muenster.de
END:VEVENT
BEGIN:VEVENT
DTSTART;TZID=Europe/Berlin:20240708T170000
DTEND;TZID=Europe/Berlin:20240708T200000
DTSTAMP:20260425T233942
CREATED:20240618T130405Z
LAST-MODIFIED:20240618T130405Z
UID:10001078-1720458000-1720468800@pg-muenster.de
SUMMARY:Ferienauftakt mit Grillen
DESCRIPTION:Wir möchten mit euch in die Ferien starten! Wie könnte das besser gehen als mit einem leckeren Grillabend! Kommt vorbei und lasst es euch schmecken! \nWann? Am 08.07. ab 17:00 Uhr \nWo? Gleis 22\, Hafenstraße 34\, 49153 Münster
URL:https://pg-muenster.de/veranstaltung/ferienauftakt-mit-grillen/
LOCATION:Gleis 22\, Hafenweg 34\, Münster\, 48155
CATEGORIES:Essen & Kochen,Ferienprogramm
ORGANIZER;CN="PG":MAILTO:info@pg-muenster.de
END:VEVENT
BEGIN:VEVENT
DTSTART;TZID=Europe/Berlin:20240708T150000
DTEND;TZID=Europe/Berlin:20240708T200000
DTSTAMP:20260425T233942
CREATED:20240618T134522Z
LAST-MODIFIED:20240618T134522Z
UID:10001088-1720450800-1720468800@pg-muenster.de
SUMMARY:Offenes Jugendcafé
DESCRIPTION:Von Montag bis Donnerstag ist das Café für euch von 15 bis 20 Uhr geöffnet. Kommt vorbei zum chillen\, zocken und quatschen. Wir freuen uns auf euch! \n 
URL:https://pg-muenster.de/veranstaltung/offenes-jugendcafe/
LOCATION:Gleis 22\, Hafenweg 34\, Münster\, 48155
CATEGORIES:Angebote für Geflüchtete,Ferienprogramm
ORGANIZER;CN="PG":MAILTO:info@pg-muenster.de
END:VEVENT
BEGIN:VEVENT
DTSTART;TZID=Europe/Berlin:20240517T163000
DTEND;TZID=Europe/Berlin:20240517T200000
DTSTAMP:20260425T233942
CREATED:20240509T001728Z
LAST-MODIFIED:20240509T001729Z
UID:10001067-1715963400-1715976000@pg-muenster.de
SUMMARY:Ausflug ins Kino 🍿🎬
DESCRIPTION:Wir gehen mit euch ins Kino! \nDafür treffen wir uns um 16:30 Uhr am Gleis 22 und werden dort um 20 Uhr wieder zurück sein. \nMeldet euch vorher bei uns per Telefon\, Mail oder Instagram an.
URL:https://pg-muenster.de/veranstaltung/ausflug-ins-kino-%f0%9f%8d%bf%f0%9f%8e%ac/
LOCATION:Gleis 22\, Hafenweg 34\, Münster\, 48155
CATEGORIES:Ausflug,Wochenprogramm
ORGANIZER;CN="PG":MAILTO:info@pg-muenster.de
END:VEVENT
BEGIN:VEVENT
DTSTART;TZID=Europe/Berlin:20240511T100000
DTEND;TZID=Europe/Berlin:20240511T190000
DTSTAMP:20260425T233942
CREATED:20240509T001411Z
LAST-MODIFIED:20240509T001457Z
UID:10001066-1715421600-1715454000@pg-muenster.de
SUMMARY:Ausflug in den Kettelerhof 🎢
DESCRIPTION:Wir machen mit euch einen Ausflug in den Ketteler Hof! \nLos geht es um 10 Uhr\, wir treffen uns am Gleis 22. Um 19 Uhr werden wir wieder zurück in Münster sein. \nMeldet euch vorher bei uns per Telefon\, Mail oder Instagram an.
URL:https://pg-muenster.de/veranstaltung/ausflug-in-den-kettelerhof-%f0%9f%8e%a2/
LOCATION:Gleis 22\, Hafenweg 34\, Münster\, 48155
CATEGORIES:Ausflug,Wochenprogramm
ATTACH;FMTTYPE=image/png:https://pg-muenster.de/wp-content/uploads/2024/05/Insta-Ketteler-Hof.png
ORGANIZER;CN="PG":MAILTO:info@pg-muenster.de
END:VEVENT
END:VCALENDAR