BEGIN:VCALENDAR
VERSION:2.0
PRODID:-//Jugendzentrum im Paul-Gerhardt Haus - ECPv6.15.20//NONSGML v1.0//EN
CALSCALE:GREGORIAN
METHOD:PUBLISH
X-WR-CALNAME:Jugendzentrum im Paul-Gerhardt Haus
X-ORIGINAL-URL:https://pg-muenster.de
X-WR-CALDESC:Veranstaltungen für Jugendzentrum im Paul-Gerhardt Haus
REFRESH-INTERVAL;VALUE=DURATION:PT1H
X-Robots-Tag:noindex
X-PUBLISHED-TTL:PT1H
BEGIN:VTIMEZONE
TZID:Europe/Berlin
BEGIN:DAYLIGHT
TZOFFSETFROM:+0100
TZOFFSETTO:+0200
TZNAME:CEST
DTSTART:20250330T010000
END:DAYLIGHT
BEGIN:STANDARD
TZOFFSETFROM:+0200
TZOFFSETTO:+0100
TZNAME:CET
DTSTART:20251026T010000
END:STANDARD
BEGIN:DAYLIGHT
TZOFFSETFROM:+0100
TZOFFSETTO:+0200
TZNAME:CEST
DTSTART:20260329T010000
END:DAYLIGHT
BEGIN:STANDARD
TZOFFSETFROM:+0200
TZOFFSETTO:+0100
TZNAME:CET
DTSTART:20261025T010000
END:STANDARD
BEGIN:DAYLIGHT
TZOFFSETFROM:+0100
TZOFFSETTO:+0200
TZNAME:CEST
DTSTART:20270328T010000
END:DAYLIGHT
BEGIN:STANDARD
TZOFFSETFROM:+0200
TZOFFSETTO:+0100
TZNAME:CET
DTSTART:20271031T010000
END:STANDARD
END:VTIMEZONE
BEGIN:VEVENT
DTSTART;TZID=Europe/Berlin:20260901T150000
DTEND;TZID=Europe/Berlin:20260901T170000
DTSTAMP:20260421T001953
CREATED:20260320T205112Z
LAST-MODIFIED:20260328T152116Z
UID:10006111-1788274800-1788282000@pg-muenster.de
SUMMARY:Kostenloser Breakdance Kurs mit Nikita
DESCRIPTION:Jeden Dienstag von 15-17 Uhr gibt Nikita bei uns einen kostenlosen Breakdance Kurs für alle ab 10 Jahren.\n\n\n\n\n\nKommt vorbei und lernt neue Moves kennen\, du brauchst keine Erfahrung\, der Kurs ist für alle egal ob Anfänger oder schon etwas erfahrener\, Nikita geht individuell auf euch ein! \nDas Angebot ist kostenlos. \nWir freuen uns auf Dich! \nFür alle aktuellen Infos folg uns doch auf Instagram oder tritt unserem WhatsApp-Channel bei.
URL:https://pg-muenster.de/veranstaltung/kostenloser-breakdance-kurs-mit-nikita/2026-09-01/
LOCATION:Gleis 22\, Hafenweg 34\, Münster\, 48155
CATEGORIES:Ferienprogramm,Sport,Tanz
ATTACH;FMTTYPE=image/jpeg:https://pg-muenster.de/wp-content/uploads/2026/03/BreakDance-Instagram-Post-45-2.jpg
ORGANIZER;CN="PG":MAILTO:info@pg-muenster.de
END:VEVENT
BEGIN:VEVENT
DTSTART;TZID=Europe/Berlin:20260908T150000
DTEND;TZID=Europe/Berlin:20260908T170000
DTSTAMP:20260421T001953
CREATED:20260320T205112Z
LAST-MODIFIED:20260328T152116Z
UID:10006112-1788879600-1788886800@pg-muenster.de
SUMMARY:Kostenloser Breakdance Kurs mit Nikita
DESCRIPTION:Jeden Dienstag von 15-17 Uhr gibt Nikita bei uns einen kostenlosen Breakdance Kurs für alle ab 10 Jahren.\n\n\n\n\n\nKommt vorbei und lernt neue Moves kennen\, du brauchst keine Erfahrung\, der Kurs ist für alle egal ob Anfänger oder schon etwas erfahrener\, Nikita geht individuell auf euch ein! \nDas Angebot ist kostenlos. \nWir freuen uns auf Dich! \nFür alle aktuellen Infos folg uns doch auf Instagram oder tritt unserem WhatsApp-Channel bei.
URL:https://pg-muenster.de/veranstaltung/kostenloser-breakdance-kurs-mit-nikita/2026-09-08/
LOCATION:Gleis 22\, Hafenweg 34\, Münster\, 48155
CATEGORIES:Ferienprogramm,Sport,Tanz
ATTACH;FMTTYPE=image/jpeg:https://pg-muenster.de/wp-content/uploads/2026/03/BreakDance-Instagram-Post-45-2.jpg
ORGANIZER;CN="PG":MAILTO:info@pg-muenster.de
END:VEVENT
BEGIN:VEVENT
DTSTART;TZID=Europe/Berlin:20260915T150000
DTEND;TZID=Europe/Berlin:20260915T170000
DTSTAMP:20260421T001953
CREATED:20260320T205112Z
LAST-MODIFIED:20260328T152116Z
UID:10006113-1789484400-1789491600@pg-muenster.de
SUMMARY:Kostenloser Breakdance Kurs mit Nikita
DESCRIPTION:Jeden Dienstag von 15-17 Uhr gibt Nikita bei uns einen kostenlosen Breakdance Kurs für alle ab 10 Jahren.\n\n\n\n\n\nKommt vorbei und lernt neue Moves kennen\, du brauchst keine Erfahrung\, der Kurs ist für alle egal ob Anfänger oder schon etwas erfahrener\, Nikita geht individuell auf euch ein! \nDas Angebot ist kostenlos. \nWir freuen uns auf Dich! \nFür alle aktuellen Infos folg uns doch auf Instagram oder tritt unserem WhatsApp-Channel bei.
URL:https://pg-muenster.de/veranstaltung/kostenloser-breakdance-kurs-mit-nikita/2026-09-15/
LOCATION:Gleis 22\, Hafenweg 34\, Münster\, 48155
CATEGORIES:Ferienprogramm,Sport,Tanz
ATTACH;FMTTYPE=image/jpeg:https://pg-muenster.de/wp-content/uploads/2026/03/BreakDance-Instagram-Post-45-2.jpg
ORGANIZER;CN="PG":MAILTO:info@pg-muenster.de
END:VEVENT
BEGIN:VEVENT
DTSTART;TZID=Europe/Berlin:20260922T150000
DTEND;TZID=Europe/Berlin:20260922T170000
DTSTAMP:20260421T001953
CREATED:20260320T205112Z
LAST-MODIFIED:20260328T152116Z
UID:10006114-1790089200-1790096400@pg-muenster.de
SUMMARY:Kostenloser Breakdance Kurs mit Nikita
DESCRIPTION:Jeden Dienstag von 15-17 Uhr gibt Nikita bei uns einen kostenlosen Breakdance Kurs für alle ab 10 Jahren.\n\n\n\n\n\nKommt vorbei und lernt neue Moves kennen\, du brauchst keine Erfahrung\, der Kurs ist für alle egal ob Anfänger oder schon etwas erfahrener\, Nikita geht individuell auf euch ein! \nDas Angebot ist kostenlos. \nWir freuen uns auf Dich! \nFür alle aktuellen Infos folg uns doch auf Instagram oder tritt unserem WhatsApp-Channel bei.
URL:https://pg-muenster.de/veranstaltung/kostenloser-breakdance-kurs-mit-nikita/2026-09-22/
LOCATION:Gleis 22\, Hafenweg 34\, Münster\, 48155
CATEGORIES:Ferienprogramm,Sport,Tanz
ATTACH;FMTTYPE=image/jpeg:https://pg-muenster.de/wp-content/uploads/2026/03/BreakDance-Instagram-Post-45-2.jpg
ORGANIZER;CN="PG":MAILTO:info@pg-muenster.de
END:VEVENT
BEGIN:VEVENT
DTSTART;TZID=Europe/Berlin:20260929T150000
DTEND;TZID=Europe/Berlin:20260929T170000
DTSTAMP:20260421T001953
CREATED:20260320T205112Z
LAST-MODIFIED:20260328T152116Z
UID:10006115-1790694000-1790701200@pg-muenster.de
SUMMARY:Kostenloser Breakdance Kurs mit Nikita
DESCRIPTION:Jeden Dienstag von 15-17 Uhr gibt Nikita bei uns einen kostenlosen Breakdance Kurs für alle ab 10 Jahren.\n\n\n\n\n\nKommt vorbei und lernt neue Moves kennen\, du brauchst keine Erfahrung\, der Kurs ist für alle egal ob Anfänger oder schon etwas erfahrener\, Nikita geht individuell auf euch ein! \nDas Angebot ist kostenlos. \nWir freuen uns auf Dich! \nFür alle aktuellen Infos folg uns doch auf Instagram oder tritt unserem WhatsApp-Channel bei.
URL:https://pg-muenster.de/veranstaltung/kostenloser-breakdance-kurs-mit-nikita/2026-09-29/
LOCATION:Gleis 22\, Hafenweg 34\, Münster\, 48155
CATEGORIES:Ferienprogramm,Sport,Tanz
ATTACH;FMTTYPE=image/jpeg:https://pg-muenster.de/wp-content/uploads/2026/03/BreakDance-Instagram-Post-45-2.jpg
ORGANIZER;CN="PG":MAILTO:info@pg-muenster.de
END:VEVENT
END:VCALENDAR