BEGIN:VCALENDAR
VERSION:2.0
PRODID:-//Jugendzentrum im Paul-Gerhardt Haus - ECPv6.15.20//NONSGML v1.0//EN
CALSCALE:GREGORIAN
METHOD:PUBLISH
X-ORIGINAL-URL:https://pg-muenster.de
X-WR-CALDESC:Veranstaltungen für Jugendzentrum im Paul-Gerhardt Haus
REFRESH-INTERVAL;VALUE=DURATION:PT1H
X-Robots-Tag:noindex
X-PUBLISHED-TTL:PT1H
BEGIN:VTIMEZONE
TZID:Europe/Berlin
BEGIN:DAYLIGHT
TZOFFSETFROM:+0100
TZOFFSETTO:+0200
TZNAME:CEST
DTSTART:20230326T010000
END:DAYLIGHT
BEGIN:STANDARD
TZOFFSETFROM:+0200
TZOFFSETTO:+0100
TZNAME:CET
DTSTART:20231029T010000
END:STANDARD
BEGIN:DAYLIGHT
TZOFFSETFROM:+0100
TZOFFSETTO:+0200
TZNAME:CEST
DTSTART:20240331T010000
END:DAYLIGHT
BEGIN:STANDARD
TZOFFSETFROM:+0200
TZOFFSETTO:+0100
TZNAME:CET
DTSTART:20241027T010000
END:STANDARD
BEGIN:DAYLIGHT
TZOFFSETFROM:+0100
TZOFFSETTO:+0200
TZNAME:CEST
DTSTART:20250330T010000
END:DAYLIGHT
BEGIN:STANDARD
TZOFFSETFROM:+0200
TZOFFSETTO:+0100
TZNAME:CET
DTSTART:20251026T010000
END:STANDARD
END:VTIMEZONE
BEGIN:VEVENT
DTSTART;TZID=Europe/Berlin:20241015T150000
DTEND;TZID=Europe/Berlin:20241015T200000
DTSTAMP:20260425T155805
CREATED:20241009T124645Z
LAST-MODIFIED:20241009T124645Z
UID:10001117-1729004400-1729022400@pg-muenster.de
SUMMARY:Offener Treff im Gleis 22
DESCRIPTION:Montags bis Donnerstags sind wir im Gleis 22 von 15-20 Uhr mit dem offenen Treff für euch da. \nIhr könnt bei uns Billard\, Playstation oder Gesellschaftsspiele spielen\, kreativ werden\, gemeinsam kochen\, einfach chillen oder vieles mehr! \nWir freuen uns auf euch! \nFür alle aktuellen Infos folg uns doch auf Instagram oder tritt unserem WhatsApp-Channel bei.
URL:https://pg-muenster.de/veranstaltung/offener-treff-im-gleis-22-3/
LOCATION:Gleis 22\, Hafenweg 34\, Münster\, 48155
CATEGORIES:Wochenprogramm
ORGANIZER;CN="PG":MAILTO:info@pg-muenster.de
END:VEVENT
BEGIN:VEVENT
DTSTART;TZID=Europe/Berlin:20241015T150000
DTEND;TZID=Europe/Berlin:20241015T170000
DTSTAMP:20260425T155805
CREATED:20241009T125254Z
LAST-MODIFIED:20241009T125255Z
UID:10001128-1729004400-1729011600@pg-muenster.de
SUMMARY:Tanzen mit Yvone (ab 10 Jahren) 🪩
DESCRIPTION:Hip-Hop\, Breakdance und mehr! Du hast Lust tanzen zu lernen? Dann komm zu unserem kostenfreien Tanzkurs. \nWann? Dienstags von 15-17 Uhr \nWo? Warendorferstr. 14 \nFür wen? für alle ab 10 Jahren! \nWir freuen uns auf Dich! \nFür alle aktuellen Infos folg uns doch auf Instagram oder tritt unserem WhatsApp-Channel bei.
URL:https://pg-muenster.de/veranstaltung/tanzen-mit-yvone-ab-10-jahren-%f0%9f%aa%a9-3/
LOCATION:Chaos Culture Club\, Warendorferstr. 14\, Münster
CATEGORIES:Ferienprogramm,Girls,Tanz,Wochenprogramm
ORGANIZER;CN="PG":MAILTO:info@pg-muenster.de
END:VEVENT
BEGIN:VEVENT
DTSTART;TZID=Europe/Berlin:20241014T160000
DTEND;TZID=Europe/Berlin:20241014T200000
DTSTAMP:20260425T155805
CREATED:20241009T130216Z
LAST-MODIFIED:20241009T130216Z
UID:10001131-1728921600-1728936000@pg-muenster.de
SUMMARY:Mit Perlen basteln: Armbänder\, Ketten & Co 💍
DESCRIPTION:Wir basteln Armbänder\, Ketten und Ringe oder worauf ihr sonst Lust habt aus Perlen. Wir haben das gesamte Material schon für euch bereitstehen\, kommt vorbei zum quatschen und Perlen fädeln! \nWir freuen uns auf Dich! \nFür alle aktuellen Infos folg uns doch auf Instagram oder tritt unserem WhatsApp-Channel bei.
URL:https://pg-muenster.de/veranstaltung/mit-perlen-basteln-armbaender-ketten-co-%f0%9f%92%8d/
LOCATION:Gleis 22\, Hafenweg 34\, Münster\, 48155
CATEGORIES:Angebote für Geflüchtete,Ferienprogramm,Girls,Kreativ
ORGANIZER;CN="PG":MAILTO:info@pg-muenster.de
END:VEVENT
BEGIN:VEVENT
DTSTART;TZID=Europe/Berlin:20241014T150000
DTEND;TZID=Europe/Berlin:20241014T200000
DTSTAMP:20260425T155805
CREATED:20241009T124622Z
LAST-MODIFIED:20241009T124622Z
UID:10001116-1728918000-1728936000@pg-muenster.de
SUMMARY:Offener Treff im Gleis 22
DESCRIPTION:Montags bis Donnerstags sind wir im Gleis 22 von 15-20 Uhr mit dem offenen Treff für euch da. \nIhr könnt bei uns Billard\, Playstation oder Gesellschaftsspiele spielen\, kreativ werden\, gemeinsam kochen\, einfach chillen oder vieles mehr! \nWir freuen uns auf euch! \nFür alle aktuellen Infos folg uns doch auf Instagram oder tritt unserem WhatsApp-Channel bei.
URL:https://pg-muenster.de/veranstaltung/offener-treff-im-gleis-22-2/
LOCATION:Gleis 22\, Hafenweg 34\, Münster\, 48155
CATEGORIES:Wochenprogramm
ORGANIZER;CN="PG":MAILTO:info@pg-muenster.de
END:VEVENT
BEGIN:VEVENT
DTSTART;TZID=Europe/Berlin:20241010T150000
DTEND;TZID=Europe/Berlin:20241010T200000
DTSTAMP:20260425T155805
CREATED:20241009T124427Z
LAST-MODIFIED:20241009T124427Z
UID:10001115-1728572400-1728590400@pg-muenster.de
SUMMARY:Offener Treff im Gleis 22
DESCRIPTION:Montags bis Donnerstags sind wir im Gleis 22 von 15-20 Uhr mit dem offenen Treff für euch da. \nIhr könnt bei uns Billard\, Playstation oder Gesellschaftsspiele spielen\, kreativ werden\, gemeinsam kochen\, einfach chillen oder vieles mehr! \nWir freuen uns auf euch! \nFür alle aktuellen Infos folg uns doch auf Instagram oder tritt unserem WhatsApp-Channel bei.
URL:https://pg-muenster.de/veranstaltung/offener-treff-im-gleis-22/
LOCATION:Gleis 22\, Hafenweg 34\, Münster\, 48155
CATEGORIES:Wochenprogramm
ORGANIZER;CN="PG":MAILTO:info@pg-muenster.de
END:VEVENT
BEGIN:VEVENT
DTSTART;TZID=Europe/Berlin:20240820T150000
DTEND;TZID=Europe/Berlin:20240820T170000
DTSTAMP:20260425T155805
CREATED:20240618T131518Z
LAST-MODIFIED:20240618T131521Z
UID:10001084-1724166000-1724173200@pg-muenster.de
SUMMARY:Tanzen mit Yvone (ab 10 Jahren) 🪩
DESCRIPTION:Hip-Hop\, Breakdance und mehr! Du hast Lust tanzen zu lernen? Dann komm zu unserem kostenfreien Tanzkurs. \nWann? Dienstags von 15-17 Uhr \nWo? Warendorferstr. 14 \nFür wen? für alle ab 10 Jahren!
URL:https://pg-muenster.de/veranstaltung/tanzen-mit-yvone-ab-10-jahren-%f0%9f%aa%a9-2/
LOCATION:Chaos Culture Club\, Warendorferstr. 14\, Münster
CATEGORIES:Ferienprogramm,Sport,Tanz
ORGANIZER;CN="PG":MAILTO:info@pg-muenster.de
END:VEVENT
BEGIN:VEVENT
DTSTART;TZID=Europe/Berlin:20240806T150000
DTEND;TZID=Europe/Berlin:20240806T180000
DTSTAMP:20260425T155805
CREATED:20240702T141847Z
LAST-MODIFIED:20240702T141847Z
UID:10001114-1722956400-1722967200@pg-muenster.de
SUMMARY:Schwarzlicht Minigolf
DESCRIPTION:Wir fahren zum Schwarzlicht Minigolf und jagen die Golfbälle mit euch im Neonlicht durch die Bahnen.
URL:https://pg-muenster.de/veranstaltung/schwarzlicht-minigolf/
LOCATION:Gleis 22\, Hafenweg 34\, Münster\, 48155
CATEGORIES:Angebote für Geflüchtete,Ausflug,Ferienprogramm,Sport
ORGANIZER;CN="PG":MAILTO:info@pg-muenster.de
END:VEVENT
BEGIN:VEVENT
DTSTART;TZID=Europe/Berlin:20240806T150000
DTEND;TZID=Europe/Berlin:20240806T170000
DTSTAMP:20260425T155805
CREATED:20240618T131345Z
LAST-MODIFIED:20240618T131346Z
UID:10001083-1722956400-1722963600@pg-muenster.de
SUMMARY:Tanzen mit Yvone (ab 10 Jahren) 💃
DESCRIPTION:Hip-Hop\, Breakdance und mehr! Du hast Lust tanzen zu lernen? Dann komm zu unserem kostenfreien Tanzkurs. \nWann? Dienstags von 15-17 Uhr \nWo? Warendorferstr. 14 \nFür wen? für alle ab 10 Jahren!
URL:https://pg-muenster.de/veranstaltung/tanzen-mit-yvone-ab-10-jahren-%f0%9f%92%83-4/
LOCATION:Chaos Culture Club\, Warendorferstr. 14\, Münster
CATEGORIES:Ferienprogramm,Sport,Tanz
ORGANIZER;CN="PG":MAILTO:info@pg-muenster.de
END:VEVENT
BEGIN:VEVENT
DTSTART;TZID=Europe/Berlin:20240801T150000
DTEND;TZID=Europe/Berlin:20240801T170000
DTSTAMP:20260425T155805
CREATED:20240702T141342Z
LAST-MODIFIED:20240702T141342Z
UID:10001113-1722524400-1722531600@pg-muenster.de
SUMMARY:Offenes Jugendcafé
DESCRIPTION:Von Montag bis Donnerstag ist das Café für euch von 15 bis 20 Uhr geöffnet. Kommt vorbei zum chillen\, zocken und quatschen. Wir freuen uns auf euch!
URL:https://pg-muenster.de/veranstaltung/offenes-jugendcafe-16/
LOCATION:Gleis 22\, Hafenweg 34\, Münster\, 48155
CATEGORIES:Angebote für Geflüchtete,Ferienprogramm
ORGANIZER;CN="PG":MAILTO:info@pg-muenster.de
END:VEVENT
BEGIN:VEVENT
DTSTART;TZID=Europe/Berlin:20240731T160000
DTEND;TZID=Europe/Berlin:20240731T190000
DTSTAMP:20260425T155805
CREATED:20240702T140912Z
LAST-MODIFIED:20240702T140913Z
UID:10001109-1722441600-1722452400@pg-muenster.de
SUMMARY:Wir machen Nudeln selbst! Eine echte Premiere!
DESCRIPTION:Für den richtig italienischen Flair wollen wir auf ganz besondere Weise mit euch kochen! \nWir machen Nudeln komplett selbst! Eine echte Premiere\, die bestimmmt super lecker wird!
URL:https://pg-muenster.de/veranstaltung/wir-machen-nudeln-selbst-eine-echte-premiere/
LOCATION:Gleis 22\, Hafenweg 34\, Münster\, 48155
CATEGORIES:Angebote für Geflüchtete,Essen & Kochen,Ferienprogramm
ORGANIZER;CN="PG":MAILTO:info@pg-muenster.de
END:VEVENT
BEGIN:VEVENT
DTSTART;TZID=Europe/Berlin:20240731T150000
DTEND;TZID=Europe/Berlin:20240731T170000
DTSTAMP:20260425T155805
CREATED:20240702T141302Z
LAST-MODIFIED:20240702T141302Z
UID:10001112-1722438000-1722445200@pg-muenster.de
SUMMARY:Offenes Jugendcafé
DESCRIPTION:Von Montag bis Donnerstag ist das Café für euch von 15 bis 20 Uhr geöffnet. Kommt vorbei zum chillen\, zocken und quatschen. Wir freuen uns auf euch!
URL:https://pg-muenster.de/veranstaltung/offenes-jugendcafe-15/
LOCATION:Gleis 22\, Hafenweg 34\, Münster\, 48155
CATEGORIES:Angebote für Geflüchtete,Ferienprogramm
ORGANIZER;CN="PG":MAILTO:info@pg-muenster.de
END:VEVENT
BEGIN:VEVENT
DTSTART;TZID=Europe/Berlin:20240730T150000
DTEND;TZID=Europe/Berlin:20240730T170000
DTSTAMP:20260425T155805
CREATED:20240702T141230Z
LAST-MODIFIED:20240702T141230Z
UID:10001111-1722351600-1722358800@pg-muenster.de
SUMMARY:Offenes Jugendcafé
DESCRIPTION:Von Montag bis Donnerstag ist das Café für euch von 15 bis 20 Uhr geöffnet. Kommt vorbei zum chillen\, zocken und quatschen. Wir freuen uns auf euch!
URL:https://pg-muenster.de/veranstaltung/offenes-jugendcafe-14/
LOCATION:Gleis 22\, Hafenweg 34\, Münster\, 48155
CATEGORIES:Angebote für Geflüchtete,Ferienprogramm
ORGANIZER;CN="PG":MAILTO:info@pg-muenster.de
END:VEVENT
BEGIN:VEVENT
DTSTART;TZID=Europe/Berlin:20240730T150000
DTEND;TZID=Europe/Berlin:20240730T170000
DTSTAMP:20260425T155805
CREATED:20240702T140714Z
LAST-MODIFIED:20240702T140950Z
UID:10001108-1722351600-1722358800@pg-muenster.de
SUMMARY:T Shirts und Tops batiken
DESCRIPTION:Wir gestalten gemeinsam T-Shirts und Tops mit coolen Batiktechniken für den Retro-Hippie Style! \n  \n 
URL:https://pg-muenster.de/veranstaltung/t-shirts-und-tops-batiken/
LOCATION:Gleis 22\, Hafenweg 34\, Münster\, 48155
CATEGORIES:Angebote für Geflüchtete,Ferienprogramm,Girls,Kreativ
ORGANIZER;CN="PG":MAILTO:info@pg-muenster.de
END:VEVENT
BEGIN:VEVENT
DTSTART;TZID=Europe/Berlin:20240730T150000
DTEND;TZID=Europe/Berlin:20240730T170000
DTSTAMP:20260425T155805
CREATED:20240618T131312Z
LAST-MODIFIED:20240618T131312Z
UID:10001082-1722351600-1722358800@pg-muenster.de
SUMMARY:Tanzen mit Yvone (ab 10 Jahren) 🪩
DESCRIPTION:Hip-Hop\, Breakdance und mehr! Du hast Lust tanzen zu lernen? Dann komm zu unserem kostenfreien Tanzkurs. \nWann? Dienstags von 15-17 Uhr \nWo? Warendorferstr. 14 \nFür wen? für alle ab 10 Jahren!
URL:https://pg-muenster.de/veranstaltung/tanzen-mit-yvone-ab-10-jahren-%f0%9f%aa%a9/
LOCATION:Chaos Culture Club\, Warendorferstr. 14\, Münster
CATEGORIES:Ferienprogramm,Sport,Tanz
ORGANIZER;CN="PG":MAILTO:info@pg-muenster.de
END:VEVENT
BEGIN:VEVENT
DTSTART;TZID=Europe/Berlin:20240729T160000
DTEND;TZID=Europe/Berlin:20240729T170000
DTSTAMP:20260425T155805
CREATED:20240702T140549Z
LAST-MODIFIED:20240702T140549Z
UID:10001107-1722268800-1722272400@pg-muenster.de
SUMMARY:Eis essen!
DESCRIPTION:Wir gehen mit euch Eis essen und quatschen dabei!
URL:https://pg-muenster.de/veranstaltung/eis-essen/
LOCATION:Gleis 22\, Hafenweg 34\, Münster\, 48155
CATEGORIES:Angebote für Geflüchtete,Essen & Kochen,Ferienprogramm
ORGANIZER;CN="PG":MAILTO:info@pg-muenster.de
END:VEVENT
BEGIN:VEVENT
DTSTART;TZID=Europe/Berlin:20240729T150000
DTEND;TZID=Europe/Berlin:20240729T170000
DTSTAMP:20260425T155805
CREATED:20240702T141155Z
LAST-MODIFIED:20240702T141155Z
UID:10001110-1722265200-1722272400@pg-muenster.de
SUMMARY:Offenes Jugendcafé
DESCRIPTION:Von Montag bis Donnerstag ist das Café für euch von 15 bis 20 Uhr geöffnet. Kommt vorbei zum chillen\, zocken und quatschen. Wir freuen uns auf euch!
URL:https://pg-muenster.de/veranstaltung/offenes-jugendcafe-13/
LOCATION:Gleis 22\, Hafenweg 34\, Münster\, 48155
CATEGORIES:Angebote für Geflüchtete,Ferienprogramm
ORGANIZER;CN="PG":MAILTO:info@pg-muenster.de
END:VEVENT
BEGIN:VEVENT
DTSTART;TZID=Europe/Berlin:20240725T150000
DTEND;TZID=Europe/Berlin:20240725T200000
DTSTAMP:20260425T155805
CREATED:20240618T165212Z
LAST-MODIFIED:20240618T165212Z
UID:10001106-1721919600-1721937600@pg-muenster.de
SUMMARY:Offenes Jugendcafé
DESCRIPTION:Von Montag bis Donnerstag ist das Café für euch von 15 bis 20 Uhr geöffnet. Kommt vorbei zum chillen\, zocken und quatschen. Wir freuen uns auf euch!
URL:https://pg-muenster.de/veranstaltung/offenes-jugendcafe-12/
LOCATION:Gleis 22\, Hafenweg 34\, Münster\, 48155
CATEGORIES:Angebote für Geflüchtete,Ferienprogramm
ORGANIZER;CN="PG":MAILTO:info@pg-muenster.de
END:VEVENT
BEGIN:VEVENT
DTSTART;TZID=Europe/Berlin:20240724T150000
DTEND;TZID=Europe/Berlin:20240724T200000
DTSTAMP:20260425T155805
CREATED:20240618T165135Z
LAST-MODIFIED:20240618T165135Z
UID:10001105-1721833200-1721851200@pg-muenster.de
SUMMARY:Offenes Jugendcafé
DESCRIPTION:Von Montag bis Donnerstag ist das Café für euch von 15 bis 20 Uhr geöffnet. Kommt vorbei zum chillen\, zocken und quatschen. Wir freuen uns auf euch!
URL:https://pg-muenster.de/veranstaltung/offenes-jugendcafe-11/
LOCATION:Gleis 22\, Hafenweg 34\, Münster\, 48155
CATEGORIES:Angebote für Geflüchtete,Ferienprogramm
ORGANIZER;CN="PG":MAILTO:info@pg-muenster.de
END:VEVENT
BEGIN:VEVENT
DTSTART;TZID=Europe/Berlin:20240724T120000
DTEND;TZID=Europe/Berlin:20240724T170000
DTSTAMP:20260425T155805
CREATED:20240618T164818Z
LAST-MODIFIED:20240618T164819Z
UID:10001102-1721822400-1721840400@pg-muenster.de
SUMMARY:Ausflug in den Kletterwald 🧗🏻
DESCRIPTION:Wir fahren in den Kletterwald um mit euch in den Baumkronen herumzuklettern! \nWann? Mittwoch\, 24.07. von 12-17 Uhr \nWo? Abfahrt ist am Gleis 22\, Hafenstraße 34\, 48153 Münster \nMeldet euch bitte vorher über Instagram\, Mail\, Telefon oder persönlich bei uns an! \nDer Ausflug kostet 3€ pro Person
URL:https://pg-muenster.de/veranstaltung/ausflug-in-den-kletterwald-%f0%9f%a7%97%f0%9f%8f%bb/
LOCATION:Gleis 22\, Hafenweg 34\, Münster\, 48155
CATEGORIES:Ausflug,Ferienprogramm,Sport
ORGANIZER;CN="PG":MAILTO:info@pg-muenster.de
END:VEVENT
BEGIN:VEVENT
DTSTART;TZID=Europe/Berlin:20240723T160000
DTEND;TZID=Europe/Berlin:20240723T190000
DTSTAMP:20260425T155805
CREATED:20240618T164518Z
LAST-MODIFIED:20240618T164521Z
UID:10001101-1721750400-1721761200@pg-muenster.de
SUMMARY:T-Shirts Batiken 👕
DESCRIPTION:Wir werden mit euch kreativ und batiken T-Shirts und Tops! \nWann? Dienstag\, 23.07. von 16-19 Uhr \nWo? Gleis 22\, Hafenstraße 34\, 48153 Münster \n 
URL:https://pg-muenster.de/veranstaltung/t-shirts-batiken-%f0%9f%91%95/
LOCATION:Gleis 22\, Hafenweg 34\, Münster\, 48155
CATEGORIES:Ferienprogramm,Kreativ
ORGANIZER;CN="PG":MAILTO:info@pg-muenster.de
END:VEVENT
BEGIN:VEVENT
DTSTART;TZID=Europe/Berlin:20240723T150000
DTEND;TZID=Europe/Berlin:20240723T200000
DTSTAMP:20260425T155805
CREATED:20240618T165104Z
LAST-MODIFIED:20240618T165104Z
UID:10001104-1721746800-1721764800@pg-muenster.de
SUMMARY:Offenes Jugendcafé
DESCRIPTION:Von Montag bis Donnerstag ist das Café für euch von 15 bis 20 Uhr geöffnet. Kommt vorbei zum chillen\, zocken und quatschen. Wir freuen uns auf euch!
URL:https://pg-muenster.de/veranstaltung/offenes-jugendcafe-10/
LOCATION:Gleis 22\, Hafenweg 34\, Münster\, 48155
CATEGORIES:Angebote für Geflüchtete,Ferienprogramm
ORGANIZER;CN="PG":MAILTO:info@pg-muenster.de
END:VEVENT
BEGIN:VEVENT
DTSTART;TZID=Europe/Berlin:20240723T150000
DTEND;TZID=Europe/Berlin:20240723T170000
DTSTAMP:20260425T155805
CREATED:20240618T131104Z
LAST-MODIFIED:20240618T131104Z
UID:10001081-1721746800-1721754000@pg-muenster.de
SUMMARY:Tanzen mit Yvone (ab 10 Jahren) 💃
DESCRIPTION:Hip-Hop\, Breakdance und mehr! Du hast Lust tanzen zu lernen? Dann komm zu unserem kostenfreien Tanzkurs. \nWann? Dienstags von 15-17 Uhr \nWo? Warendorferstr. 14 \nFür wen? für alle ab 10 Jahren!
URL:https://pg-muenster.de/veranstaltung/tanzen-mit-yvone-ab-10-jahren-%f0%9f%92%83-3/
LOCATION:Chaos Culture Club\, Warendorferstr. 14\, Münster
CATEGORIES:Ferienprogramm,Sport,Tanz
ORGANIZER;CN="PG":MAILTO:info@pg-muenster.de
END:VEVENT
BEGIN:VEVENT
DTSTART;TZID=Europe/Berlin:20240722T150000
DTEND;TZID=Europe/Berlin:20240722T200000
DTSTAMP:20260425T155805
CREATED:20240618T165043Z
LAST-MODIFIED:20240618T165043Z
UID:10001103-1721660400-1721678400@pg-muenster.de
SUMMARY:Offenes Jugendcafé
DESCRIPTION:Von Montag bis Donnerstag ist das Café für euch von 15 bis 20 Uhr geöffnet. Kommt vorbei zum chillen\, zocken und quatschen. Wir freuen uns auf euch!
URL:https://pg-muenster.de/veranstaltung/offenes-jugendcafe-9/
LOCATION:Gleis 22\, Hafenweg 34\, Münster\, 48155
CATEGORIES:Angebote für Geflüchtete,Ferienprogramm
ORGANIZER;CN="PG":MAILTO:info@pg-muenster.de
END:VEVENT
BEGIN:VEVENT
DTSTART;TZID=Europe/Berlin:20240720T100000
DTEND;TZID=Europe/Berlin:20240720T190000
DTSTAMP:20260425T155805
CREATED:20240618T163603Z
LAST-MODIFIED:20240618T163604Z
UID:10001099-1721469600-1721502000@pg-muenster.de
SUMMARY:Ausflug in den Safaripark! 🐯
DESCRIPTION:Wir fahren mit euch in den Safaripark! \nWann? Samstag\, 20.07. 10-19 Uhr \nWo? Wir treffen uns zur Abfahrt am Gleis 22\, Hafenstr. 34\, 48153 Münster \nMeldet euch bitte vorher über Instagram\, Mail\, Telefon oder persönlich bei uns an! \nDer Ausflug kostet 10€
URL:https://pg-muenster.de/veranstaltung/ausflug-in-den-safaripark-%f0%9f%90%af/
LOCATION:Gleis 22\, Hafenweg 34\, Münster\, 48155
CATEGORIES:Ausflug,Ferienprogramm
ORGANIZER;CN="PG":MAILTO:info@pg-muenster.de
END:VEVENT
BEGIN:VEVENT
DTSTART;TZID=Europe/Berlin:20240718T150000
DTEND;TZID=Europe/Berlin:20240718T200000
DTSTAMP:20260425T155805
CREATED:20240618T135610Z
LAST-MODIFIED:20240618T135610Z
UID:10001095-1721314800-1721332800@pg-muenster.de
SUMMARY:Offenes Jugendcafé
DESCRIPTION:Von Montag bis Donnerstag ist das Café für euch von 15 bis 20 Uhr geöffnet. Kommt vorbei zum chillen\, zocken und quatschen. Wir freuen uns auf euch!
URL:https://pg-muenster.de/veranstaltung/offenes-jugendcafe-8/
LOCATION:Gleis 22\, Hafenweg 34\, Münster\, 48155
CATEGORIES:Angebote für Geflüchtete,Ferienprogramm
ORGANIZER;CN="PG":MAILTO:info@pg-muenster.de
END:VEVENT
BEGIN:VEVENT
DTSTART;TZID=Europe/Berlin:20240718T120000
DTEND;TZID=Europe/Berlin:20240718T153000
DTSTAMP:20260425T155805
CREATED:20240618T163122Z
LAST-MODIFIED:20240618T163159Z
UID:10001098-1721304000-1721316600@pg-muenster.de
SUMMARY:Tretboot fahren mit kleinem Picknick 🚣‍♂️🧺
DESCRIPTION:Wir gehen mit euch Tretbootfahren und machen dann noch ein kleines Picknick! \nWann? Donnerstag\, 18.07. von 12-15:30 Uhr \nWo? Treffen am Gleis 22\, Hafenstraße 34\, 48153 Münster. Wir fahren dann gemeinsam zum Tretbooverleih \nFür alle Ausflüge gilt: bitte vorher bei uns anmelden. Das geht per Telefon\, Mail\, Instagram oder persönlich. \nKosten: 3€
URL:https://pg-muenster.de/veranstaltung/tretboot-fahren-mit-kleinem-picknick-%f0%9f%9a%a3%e2%99%82%ef%b8%8f%f0%9f%a7%ba/
LOCATION:Gleis 22\, Hafenweg 34\, Münster\, 48155
CATEGORIES:Ausflug,Essen & Kochen,Ferienprogramm,Sport
ORGANIZER;CN="PG":MAILTO:info@pg-muenster.de
END:VEVENT
BEGIN:VEVENT
DTSTART;TZID=Europe/Berlin:20240717T180000
DTEND;TZID=Europe/Berlin:20240717T210000
DTSTAMP:20260425T155805
CREATED:20240618T162612Z
LAST-MODIFIED:20240618T162613Z
UID:10001097-1721239200-1721250000@pg-muenster.de
SUMMARY:Kinoabend 🎬🍿
DESCRIPTION:Wir machen mit euch einen Kinoabend! \nWann? Mittwoch\, 17.07. ab 18 Uhr \nWo? Im Gleis 22\, Hafenstraße 34\, 48153 Münster
URL:https://pg-muenster.de/veranstaltung/kinoabend-%f0%9f%8e%ac%f0%9f%8d%bf/
LOCATION:Gleis 22\, Hafenweg 34\, Münster\, 48155
CATEGORIES:Ferienprogramm
ORGANIZER;CN="PG":MAILTO:info@pg-muenster.de
END:VEVENT
BEGIN:VEVENT
DTSTART;TZID=Europe/Berlin:20240717T150000
DTEND;TZID=Europe/Berlin:20240717T200000
DTSTAMP:20260425T155805
CREATED:20240618T135520Z
LAST-MODIFIED:20240618T135520Z
UID:10001094-1721228400-1721246400@pg-muenster.de
SUMMARY:Offenes Jugendcafé
DESCRIPTION:Von Montag bis Donnerstag ist das Café für euch von 15 bis 20 Uhr geöffnet. Kommt vorbei zum chillen\, zocken und quatschen. Wir freuen uns auf euch!
URL:https://pg-muenster.de/veranstaltung/offenes-jugendcafe-7/
LOCATION:Gleis 22\, Hafenweg 34\, Münster\, 48155
CATEGORIES:Angebote für Geflüchtete,Ferienprogramm
ORGANIZER;CN="PG":MAILTO:info@pg-muenster.de
END:VEVENT
BEGIN:VEVENT
DTSTART;TZID=Europe/Berlin:20240716T150000
DTEND;TZID=Europe/Berlin:20240716T200000
DTSTAMP:20260425T155805
CREATED:20240618T135458Z
LAST-MODIFIED:20240618T135458Z
UID:10001093-1721142000-1721160000@pg-muenster.de
SUMMARY:Offenes Jugendcafé
DESCRIPTION:Von Montag bis Donnerstag ist das Café für euch von 15 bis 20 Uhr geöffnet. Kommt vorbei zum chillen\, zocken und quatschen. Wir freuen uns auf euch!
URL:https://pg-muenster.de/veranstaltung/offenes-jugendcafe-6/
LOCATION:Gleis 22\, Hafenweg 34\, Münster\, 48155
CATEGORIES:Angebote für Geflüchtete,Ferienprogramm
ORGANIZER;CN="PG":MAILTO:info@pg-muenster.de
END:VEVENT
BEGIN:VEVENT
DTSTART;TZID=Europe/Berlin:20240716T150000
DTEND;TZID=Europe/Berlin:20240716T170000
DTSTAMP:20260425T155805
CREATED:20240618T131022Z
LAST-MODIFIED:20240618T131024Z
UID:10001080-1721142000-1721149200@pg-muenster.de
SUMMARY:Tanzen mit Yvone (ab 10 Jahren) 💃
DESCRIPTION:Hip-Hop\, Breakdance und mehr! Du hast Lust tanzen zu lernen? Dann komm zu unserem kostenfreien Tanzkurs. \nWann? Dienstags von 15-17 Uhr \nWo? Warendorferstr. 14 \nFür wen? für alle ab 10 Jahren!
URL:https://pg-muenster.de/veranstaltung/tanzen-mit-yvone-ab-10-jahren-%f0%9f%92%83-2/
LOCATION:Chaos Culture Club\, Warendorferstr. 14\, Münster
CATEGORIES:Ferienprogramm,Sport,Tanz
ORGANIZER;CN="PG":MAILTO:info@pg-muenster.de
END:VEVENT
END:VCALENDAR