BEGIN:VCALENDAR
VERSION:2.0
PRODID:-//Jugendzentrum im Paul-Gerhardt Haus - ECPv6.15.20//NONSGML v1.0//EN
CALSCALE:GREGORIAN
METHOD:PUBLISH
X-ORIGINAL-URL:https://pg-muenster.de
X-WR-CALDESC:Veranstaltungen für Jugendzentrum im Paul-Gerhardt Haus
REFRESH-INTERVAL;VALUE=DURATION:PT1H
X-Robots-Tag:noindex
X-PUBLISHED-TTL:PT1H
BEGIN:VTIMEZONE
TZID:Europe/Berlin
BEGIN:DAYLIGHT
TZOFFSETFROM:+0100
TZOFFSETTO:+0200
TZNAME:CEST
DTSTART:20230326T010000
END:DAYLIGHT
BEGIN:STANDARD
TZOFFSETFROM:+0200
TZOFFSETTO:+0100
TZNAME:CET
DTSTART:20231029T010000
END:STANDARD
BEGIN:DAYLIGHT
TZOFFSETFROM:+0100
TZOFFSETTO:+0200
TZNAME:CEST
DTSTART:20240331T010000
END:DAYLIGHT
BEGIN:STANDARD
TZOFFSETFROM:+0200
TZOFFSETTO:+0100
TZNAME:CET
DTSTART:20241027T010000
END:STANDARD
BEGIN:DAYLIGHT
TZOFFSETFROM:+0100
TZOFFSETTO:+0200
TZNAME:CEST
DTSTART:20250330T010000
END:DAYLIGHT
BEGIN:STANDARD
TZOFFSETFROM:+0200
TZOFFSETTO:+0100
TZNAME:CET
DTSTART:20251026T010000
END:STANDARD
END:VTIMEZONE
BEGIN:VEVENT
DTSTART;TZID=Europe/Berlin:20241031T150000
DTEND;TZID=Europe/Berlin:20241031T200000
DTSTAMP:20260421T055117
CREATED:20241009T125052Z
LAST-MODIFIED:20241009T125052Z
UID:10001127-1730386800-1730404800@pg-muenster.de
SUMMARY:Offener Treff im Gleis 22
DESCRIPTION:Montags bis Donnerstags sind wir im Gleis 22 von 15-20 Uhr mit dem offenen Treff für euch da. \nIhr könnt bei uns Billard\, Playstation oder Gesellschaftsspiele spielen\, kreativ werden\, gemeinsam kochen\, einfach chillen oder vieles mehr! \nWir freuen uns auf euch! \nFür alle aktuellen Infos folg uns doch auf Instagram oder tritt unserem WhatsApp-Channel bei.
URL:https://pg-muenster.de/veranstaltung/offener-treff-im-gleis-22-13/
LOCATION:Gleis 22\, Hafenweg 34\, Münster\, 48155
CATEGORIES:Wochenprogramm
ORGANIZER;CN="PG":MAILTO:info@pg-muenster.de
END:VEVENT
BEGIN:VEVENT
DTSTART;TZID=Europe/Berlin:20241030T150000
DTEND;TZID=Europe/Berlin:20241030T200000
DTSTAMP:20260421T055117
CREATED:20241009T125024Z
LAST-MODIFIED:20241009T125024Z
UID:10001126-1730300400-1730318400@pg-muenster.de
SUMMARY:Offener Treff im Gleis 22
DESCRIPTION:Montags bis Donnerstags sind wir im Gleis 22 von 15-20 Uhr mit dem offenen Treff für euch da. \nIhr könnt bei uns Billard\, Playstation oder Gesellschaftsspiele spielen\, kreativ werden\, gemeinsam kochen\, einfach chillen oder vieles mehr! \nWir freuen uns auf euch! \nFür alle aktuellen Infos folg uns doch auf Instagram oder tritt unserem WhatsApp-Channel bei.
URL:https://pg-muenster.de/veranstaltung/offener-treff-im-gleis-22-12/
LOCATION:Gleis 22\, Hafenweg 34\, Münster\, 48155
CATEGORIES:Wochenprogramm
ORGANIZER;CN="PG":MAILTO:info@pg-muenster.de
END:VEVENT
BEGIN:VEVENT
DTSTART;TZID=Europe/Berlin:20241029T150000
DTEND;TZID=Europe/Berlin:20241029T200000
DTSTAMP:20260421T055117
CREATED:20241009T125004Z
LAST-MODIFIED:20241009T125004Z
UID:10001125-1730214000-1730232000@pg-muenster.de
SUMMARY:Offener Treff im Gleis 22
DESCRIPTION:Montags bis Donnerstags sind wir im Gleis 22 von 15-20 Uhr mit dem offenen Treff für euch da. \nIhr könnt bei uns Billard\, Playstation oder Gesellschaftsspiele spielen\, kreativ werden\, gemeinsam kochen\, einfach chillen oder vieles mehr! \nWir freuen uns auf euch! \nFür alle aktuellen Infos folg uns doch auf Instagram oder tritt unserem WhatsApp-Channel bei.
URL:https://pg-muenster.de/veranstaltung/offener-treff-im-gleis-22-11/
LOCATION:Gleis 22\, Hafenweg 34\, Münster\, 48155
CATEGORIES:Wochenprogramm
ORGANIZER;CN="PG":MAILTO:info@pg-muenster.de
END:VEVENT
BEGIN:VEVENT
DTSTART;TZID=Europe/Berlin:20241029T150000
DTEND;TZID=Europe/Berlin:20241029T170000
DTSTAMP:20260421T055117
CREATED:20241009T125349Z
LAST-MODIFIED:20241009T125349Z
UID:10001130-1730214000-1730221200@pg-muenster.de
SUMMARY:Tanzen mit Yvone (ab 10 Jahren) 🪩
DESCRIPTION:Hip-Hop\, Breakdance und mehr! Du hast Lust tanzen zu lernen? Dann komm zu unserem kostenfreien Tanzkurs. \nWann? Dienstags von 15-17 Uhr \nWo? Warendorferstr. 14 \nFür wen? für alle ab 10 Jahren! \nWir freuen uns auf Dich! \nFür alle aktuellen Infos folg uns doch auf Instagram oder tritt unserem WhatsApp-Channel bei.
URL:https://pg-muenster.de/veranstaltung/tanzen-mit-yvone-ab-10-jahren-%f0%9f%aa%a9-5/
LOCATION:Chaos Culture Club\, Warendorferstr. 14\, Münster
CATEGORIES:Sport,Tanz,Wochenprogramm
ORGANIZER;CN="PG":MAILTO:info@pg-muenster.de
END:VEVENT
BEGIN:VEVENT
DTSTART;TZID=Europe/Berlin:20241028T150000
DTEND;TZID=Europe/Berlin:20241028T200000
DTSTAMP:20260421T055117
CREATED:20241009T124938Z
LAST-MODIFIED:20241009T124938Z
UID:10001124-1730127600-1730145600@pg-muenster.de
SUMMARY:Offener Treff im Gleis 22
DESCRIPTION:Montags bis Donnerstags sind wir im Gleis 22 von 15-20 Uhr mit dem offenen Treff für euch da. \nIhr könnt bei uns Billard\, Playstation oder Gesellschaftsspiele spielen\, kreativ werden\, gemeinsam kochen\, einfach chillen oder vieles mehr! \nWir freuen uns auf euch! \nFür alle aktuellen Infos folg uns doch auf Instagram oder tritt unserem WhatsApp-Channel bei.
URL:https://pg-muenster.de/veranstaltung/offener-treff-im-gleis-22-10/
LOCATION:Gleis 22\, Hafenweg 34\, Münster\, 48155
CATEGORIES:Wochenprogramm
ORGANIZER;CN="PG":MAILTO:info@pg-muenster.de
END:VEVENT
BEGIN:VEVENT
DTSTART;TZID=Europe/Berlin:20241024T150000
DTEND;TZID=Europe/Berlin:20241024T200000
DTSTAMP:20260421T055117
CREATED:20241009T124915Z
LAST-MODIFIED:20241009T124915Z
UID:10001123-1729782000-1729800000@pg-muenster.de
SUMMARY:Offener Treff im Gleis 22
DESCRIPTION:Montags bis Donnerstags sind wir im Gleis 22 von 15-20 Uhr mit dem offenen Treff für euch da. \nIhr könnt bei uns Billard\, Playstation oder Gesellschaftsspiele spielen\, kreativ werden\, gemeinsam kochen\, einfach chillen oder vieles mehr! \nWir freuen uns auf euch! \nFür alle aktuellen Infos folg uns doch auf Instagram oder tritt unserem WhatsApp-Channel bei.
URL:https://pg-muenster.de/veranstaltung/offener-treff-im-gleis-22-9/
LOCATION:Gleis 22\, Hafenweg 34\, Münster\, 48155
CATEGORIES:Wochenprogramm
ORGANIZER;CN="PG":MAILTO:info@pg-muenster.de
END:VEVENT
BEGIN:VEVENT
DTSTART;TZID=Europe/Berlin:20241024T100000
DTEND;TZID=Europe/Berlin:20241024T190000
DTSTAMP:20260421T055117
CREATED:20241009T132800Z
LAST-MODIFIED:20241009T132800Z
UID:10001138-1729764000-1729796400@pg-muenster.de
SUMMARY:Ausflug nach Köln
DESCRIPTION:Wir fahren zusammen nach Köln! \nWir treffen uns dafür um 10:00 Uhr am Gleis 22 (Hafenstraße 34) und fahren gemeinsam mit der Bahn nach Köln. \nDas Angebot kostet 3€\, bitte melde dich vorher bei uns an\, damit wir mit dir planen können. \nSolltest du noch nicht 18 sein\, benötigen wir eine unterschriebene Einverständniserklärung deiner Eltern oder Erziehungsberechtigten. Diese kannst du uns bei Anmeldung per Mail zuschicken oder ausgefüllt mitbringen. \nWir freuen uns auf Dich! \nFür alle aktuellen Infos folg uns doch auf Instagram oder tritt unserem WhatsApp-Channel bei.
URL:https://pg-muenster.de/veranstaltung/ausflug-nach-koeln/
LOCATION:Gleis 22\, Hafenweg 34\, Münster\, 48155
CATEGORIES:Ausflug,Ferienprogramm,Girls
ORGANIZER;CN="PG":MAILTO:info@pg-muenster.de
END:VEVENT
BEGIN:VEVENT
DTSTART;TZID=Europe/Berlin:20241023T150000
DTEND;TZID=Europe/Berlin:20241023T200000
DTSTAMP:20260421T055117
CREATED:20241009T124841Z
LAST-MODIFIED:20241009T124841Z
UID:10001122-1729695600-1729713600@pg-muenster.de
SUMMARY:Offener Treff im Gleis 22
DESCRIPTION:Montags bis Donnerstags sind wir im Gleis 22 von 15-20 Uhr mit dem offenen Treff für euch da. \nIhr könnt bei uns Billard\, Playstation oder Gesellschaftsspiele spielen\, kreativ werden\, gemeinsam kochen\, einfach chillen oder vieles mehr! \nWir freuen uns auf euch! \nFür alle aktuellen Infos folg uns doch auf Instagram oder tritt unserem WhatsApp-Channel bei.
URL:https://pg-muenster.de/veranstaltung/offener-treff-im-gleis-22-8/
LOCATION:Gleis 22\, Hafenweg 34\, Münster\, 48155
CATEGORIES:Wochenprogramm
ORGANIZER;CN="PG":MAILTO:info@pg-muenster.de
END:VEVENT
BEGIN:VEVENT
DTSTART;TZID=Europe/Berlin:20241023T100000
DTEND;TZID=Europe/Berlin:20241023T180000
DTSTAMP:20260421T055117
CREATED:20241009T132402Z
LAST-MODIFIED:20241009T132402Z
UID:10001137-1729677600-1729706400@pg-muenster.de
SUMMARY:Ausflug ins Spaßbad Düb in Dülmen 🏊‍♀️
DESCRIPTION:Wir fahren mit euch ins Freizeitbad! Rutschen\, Wellness und Wasserspaß! Los gehts um 10 Uhr am Gleis 22 (Hafenstraße 34). \nUm mitzufahren musst Du das Seepferdchen Schwimmabzeichen haben. \nDas Angebot kostet 3€\, bitte melde dich vorher bei uns an\, damit wir mit dir planen können. \nSolltest du noch nicht 18 sein\, benötigen wir eine unterschriebene Einverständniserklärung deiner Eltern oder Erziehungsberechtigten. Diese kannst du uns bei Anmeldung per Mail zuschicken oder ausgefüllt mitbringen. \nWir freuen uns auf Dich! \nFür alle aktuellen Infos folg uns doch auf Instagram oder tritt unserem WhatsApp-Channel bei.
URL:https://pg-muenster.de/veranstaltung/ausflug-ins-spassbad-dueb-in-duelmen-%f0%9f%8f%8a%e2%99%80%ef%b8%8f-2/
LOCATION:Gleis 22\, Hafenweg 34\, Münster\, 48155
CATEGORIES:Ausflug,Ferienprogramm,Sport
ORGANIZER;CN="PG":MAILTO:info@pg-muenster.de
END:VEVENT
BEGIN:VEVENT
DTSTART;TZID=Europe/Berlin:20241022T170000
DTEND;TZID=Europe/Berlin:20241022T190000
DTSTAMP:20260421T055117
CREATED:20241009T132003Z
LAST-MODIFIED:20241009T132005Z
UID:10001136-1729616400-1729623600@pg-muenster.de
SUMMARY:Kürbissuppe kochen 🎃
DESCRIPTION:Wir kochen gemeinsam Kürbissuppe und essen zusammen! \nWir freuen uns auf euch! \nFür alle aktuellen Infos folg uns doch auf Instagram oder tritt unserem WhatsApp-Channel bei.
URL:https://pg-muenster.de/veranstaltung/kuerbissuppe-kochen-%f0%9f%8e%83/
LOCATION:Gleis 22\, Hafenweg 34\, Münster\, 48155
CATEGORIES:Essen & Kochen,Ferienprogramm
ORGANIZER;CN="PG":MAILTO:info@pg-muenster.de
END:VEVENT
BEGIN:VEVENT
DTSTART;TZID=Europe/Berlin:20241022T150000
DTEND;TZID=Europe/Berlin:20241022T200000
DTSTAMP:20260421T055117
CREATED:20241009T124821Z
LAST-MODIFIED:20241009T124821Z
UID:10001121-1729609200-1729627200@pg-muenster.de
SUMMARY:Offener Treff im Gleis 22
DESCRIPTION:Montags bis Donnerstags sind wir im Gleis 22 von 15-20 Uhr mit dem offenen Treff für euch da. \nIhr könnt bei uns Billard\, Playstation oder Gesellschaftsspiele spielen\, kreativ werden\, gemeinsam kochen\, einfach chillen oder vieles mehr! \nWir freuen uns auf euch! \nFür alle aktuellen Infos folg uns doch auf Instagram oder tritt unserem WhatsApp-Channel bei.
URL:https://pg-muenster.de/veranstaltung/offener-treff-im-gleis-22-7/
LOCATION:Gleis 22\, Hafenweg 34\, Münster\, 48155
CATEGORIES:Wochenprogramm
ORGANIZER;CN="PG":MAILTO:info@pg-muenster.de
END:VEVENT
BEGIN:VEVENT
DTSTART;TZID=Europe/Berlin:20241022T150000
DTEND;TZID=Europe/Berlin:20241022T170000
DTSTAMP:20260421T055117
CREATED:20241009T125324Z
LAST-MODIFIED:20241009T125325Z
UID:10001129-1729609200-1729616400@pg-muenster.de
SUMMARY:Tanzen mit Yvone (ab 10 Jahren) 🪩
DESCRIPTION:Hip-Hop\, Breakdance und mehr! Du hast Lust tanzen zu lernen? Dann komm zu unserem kostenfreien Tanzkurs. \nWann? Dienstags von 15-17 Uhr \nWo? Warendorferstr. 14 \nFür wen? für alle ab 10 Jahren! \nWir freuen uns auf Dich! \nFür alle aktuellen Infos folg uns doch auf Instagram oder tritt unserem WhatsApp-Channel bei.
URL:https://pg-muenster.de/veranstaltung/tanzen-mit-yvone-ab-10-jahren-%f0%9f%aa%a9-4/
LOCATION:Chaos Culture Club\, Warendorferstr. 14\, Münster
CATEGORIES:Ferienprogramm,Sport,Tanz,Wochenprogramm
ORGANIZER;CN="PG":MAILTO:info@pg-muenster.de
END:VEVENT
BEGIN:VEVENT
DTSTART;TZID=Europe/Berlin:20241021T160000
DTEND;TZID=Europe/Berlin:20241021T190000
DTSTAMP:20260421T055117
CREATED:20241009T130540Z
LAST-MODIFIED:20241009T130540Z
UID:10001133-1729526400-1729537200@pg-muenster.de
SUMMARY:Kürbisse schnitzen 🎃
DESCRIPTION:Wir breiten uns schon mal auf Halloween vor und möchten mit euch Kürbisse schnitzen 🎃 Los gehts um 16 Uhr im Gleis 22. \nWir freuen uns auf Dich! \nFür alle aktuellen Infos folg uns doch auf Instagram oder tritt unserem WhatsApp-Channel bei.
URL:https://pg-muenster.de/veranstaltung/kuerbisse-schnitzen-%f0%9f%8e%83/
LOCATION:Gleis 22\, Hafenweg 34\, Münster\, 48155
CATEGORIES:Angebote für Geflüchtete,Ferienprogramm,Girls,Kreativ
ORGANIZER;CN="PG":MAILTO:info@pg-muenster.de
END:VEVENT
BEGIN:VEVENT
DTSTART;TZID=Europe/Berlin:20241021T150000
DTEND;TZID=Europe/Berlin:20241021T200000
DTSTAMP:20260421T055117
CREATED:20241009T124753Z
LAST-MODIFIED:20241009T124753Z
UID:10001120-1729522800-1729540800@pg-muenster.de
SUMMARY:Offener Treff im Gleis 22
DESCRIPTION:Montags bis Donnerstags sind wir im Gleis 22 von 15-20 Uhr mit dem offenen Treff für euch da. \nIhr könnt bei uns Billard\, Playstation oder Gesellschaftsspiele spielen\, kreativ werden\, gemeinsam kochen\, einfach chillen oder vieles mehr! \nWir freuen uns auf euch! \nFür alle aktuellen Infos folg uns doch auf Instagram oder tritt unserem WhatsApp-Channel bei.
URL:https://pg-muenster.de/veranstaltung/offener-treff-im-gleis-22-6/
LOCATION:Gleis 22\, Hafenweg 34\, Münster\, 48155
CATEGORIES:Wochenprogramm
ORGANIZER;CN="PG":MAILTO:info@pg-muenster.de
END:VEVENT
BEGIN:VEVENT
DTSTART;TZID=Europe/Berlin:20241017T150000
DTEND;TZID=Europe/Berlin:20241017T200000
DTSTAMP:20260421T055117
CREATED:20241009T124730Z
LAST-MODIFIED:20241009T124730Z
UID:10001119-1729177200-1729195200@pg-muenster.de
SUMMARY:Offener Treff im Gleis 22
DESCRIPTION:Montags bis Donnerstags sind wir im Gleis 22 von 15-20 Uhr mit dem offenen Treff für euch da. \nIhr könnt bei uns Billard\, Playstation oder Gesellschaftsspiele spielen\, kreativ werden\, gemeinsam kochen\, einfach chillen oder vieles mehr! \nWir freuen uns auf euch! \nFür alle aktuellen Infos folg uns doch auf Instagram oder tritt unserem WhatsApp-Channel bei.
URL:https://pg-muenster.de/veranstaltung/offener-treff-im-gleis-22-5/
LOCATION:Gleis 22\, Hafenweg 34\, Münster\, 48155
CATEGORIES:Wochenprogramm
ORGANIZER;CN="PG":MAILTO:info@pg-muenster.de
END:VEVENT
BEGIN:VEVENT
DTSTART;TZID=Europe/Berlin:20241017T150000
DTEND;TZID=Europe/Berlin:20241017T190000
DTSTAMP:20260421T055117
CREATED:20241009T131525Z
LAST-MODIFIED:20241009T131526Z
UID:10001135-1729177200-1729191600@pg-muenster.de
SUMMARY:Ausflug ins Kürbisland 🎃
DESCRIPTION:Das Angebot ist kostenlos\, bitte melde dich vorher bei uns an\, damit wir mit dir planen können. \nSolltest du noch nicht 18 sein\, benötigen wir eine unterschriebene Einverständniserklärung deiner Eltern oder Erziehungsberechtigten. Diese kannst du uns bei Anmeldung per Mail zuschicken oder ausgefüllt mitbringen. \nWir freuen uns auf Dich! \nFür alle aktuellen Infos folg uns doch auf Instagram oder tritt unserem WhatsApp-Channel bei.
URL:https://pg-muenster.de/veranstaltung/ausflug-ins-kuerbisland-%f0%9f%8e%83/
LOCATION:Gleis 22\, Hafenweg 34\, Münster\, 48155
CATEGORIES:Ausflug,Ferienprogramm
ORGANIZER;CN="PG":MAILTO:info@pg-muenster.de
END:VEVENT
BEGIN:VEVENT
DTSTART;TZID=Europe/Berlin:20241016T170000
DTEND;TZID=Europe/Berlin:20241016T193000
DTSTAMP:20260421T055117
CREATED:20241009T131252Z
LAST-MODIFIED:20241009T131617Z
UID:10001134-1729098000-1729107000@pg-muenster.de
SUMMARY:Ausflug zum Bowlen 🎳
DESCRIPTION:Wir gehen mit euch bowlen! 🎳 \nKommt mit uns Spares uns Strikes werfen. Wir treffen uns dafür um 17:00 Uhr am Gleis 22 (Hafenstraße 34) und fahren gemeinsam zum bowlen. \nDas Angebot kostet 3€\, bitte melde dich vorher bei uns an\, damit wir mit dir planen können. \nSolltest du noch nicht 18 sein\, benötigen wir eine unterschriebene Einverständniserklärung deiner Eltern oder Erziehungsberechtigten. Diese kannst du uns bei Anmeldung per Mail zuschicken oder ausgefüllt mitbringen. \nWir freuen uns auf Dich! \nFür alle aktuellen Infos folg uns doch auf Instagram oder tritt unserem WhatsApp-Channel bei.
URL:https://pg-muenster.de/veranstaltung/ausflug-zum-bowlen-%f0%9f%8e%b3/
LOCATION:Gleis 22\, Hafenweg 34\, Münster\, 48155
CATEGORIES:Angebote für Geflüchtete,Ausflug,Ferienprogramm,Sport
ORGANIZER;CN="PG":MAILTO:info@pg-muenster.de
END:VEVENT
BEGIN:VEVENT
DTSTART;TZID=Europe/Berlin:20241016T150000
DTEND;TZID=Europe/Berlin:20241016T200000
DTSTAMP:20260421T055117
CREATED:20241009T124712Z
LAST-MODIFIED:20241009T124712Z
UID:10001118-1729090800-1729108800@pg-muenster.de
SUMMARY:Offener Treff im Gleis 22
DESCRIPTION:Montags bis Donnerstags sind wir im Gleis 22 von 15-20 Uhr mit dem offenen Treff für euch da. \nIhr könnt bei uns Billard\, Playstation oder Gesellschaftsspiele spielen\, kreativ werden\, gemeinsam kochen\, einfach chillen oder vieles mehr! \nWir freuen uns auf euch! \nFür alle aktuellen Infos folg uns doch auf Instagram oder tritt unserem WhatsApp-Channel bei.
URL:https://pg-muenster.de/veranstaltung/offener-treff-im-gleis-22-4/
LOCATION:Gleis 22\, Hafenweg 34\, Münster\, 48155
CATEGORIES:Wochenprogramm
ORGANIZER;CN="PG":MAILTO:info@pg-muenster.de
END:VEVENT
BEGIN:VEVENT
DTSTART;TZID=Europe/Berlin:20241015T170000
DTEND;TZID=Europe/Berlin:20241015T190000
DTSTAMP:20260421T055117
CREATED:20241009T130359Z
LAST-MODIFIED:20241009T130359Z
UID:10001132-1729011600-1729018800@pg-muenster.de
SUMMARY:Gemütliches Waffeln backen 🧇
DESCRIPTION:Wir backen gemeinsam Waffeln und lassen es uns richtig gut gehen! \nWir freuen uns auf Dich! \nFür alle aktuellen Infos folg uns doch auf Instagram oder tritt unserem WhatsApp-Channel bei.
URL:https://pg-muenster.de/veranstaltung/gemuetliches-waffeln-backen-%f0%9f%a7%87/
LOCATION:Gleis 22\, Hafenweg 34\, Münster\, 48155
CATEGORIES:Angebote für Geflüchtete,Essen & Kochen,Ferienprogramm,Girls
ORGANIZER;CN="PG":MAILTO:info@pg-muenster.de
END:VEVENT
BEGIN:VEVENT
DTSTART;TZID=Europe/Berlin:20241015T150000
DTEND;TZID=Europe/Berlin:20241015T200000
DTSTAMP:20260421T055117
CREATED:20241009T124645Z
LAST-MODIFIED:20241009T124645Z
UID:10001117-1729004400-1729022400@pg-muenster.de
SUMMARY:Offener Treff im Gleis 22
DESCRIPTION:Montags bis Donnerstags sind wir im Gleis 22 von 15-20 Uhr mit dem offenen Treff für euch da. \nIhr könnt bei uns Billard\, Playstation oder Gesellschaftsspiele spielen\, kreativ werden\, gemeinsam kochen\, einfach chillen oder vieles mehr! \nWir freuen uns auf euch! \nFür alle aktuellen Infos folg uns doch auf Instagram oder tritt unserem WhatsApp-Channel bei.
URL:https://pg-muenster.de/veranstaltung/offener-treff-im-gleis-22-3/
LOCATION:Gleis 22\, Hafenweg 34\, Münster\, 48155
CATEGORIES:Wochenprogramm
ORGANIZER;CN="PG":MAILTO:info@pg-muenster.de
END:VEVENT
BEGIN:VEVENT
DTSTART;TZID=Europe/Berlin:20241015T150000
DTEND;TZID=Europe/Berlin:20241015T170000
DTSTAMP:20260421T055117
CREATED:20241009T125254Z
LAST-MODIFIED:20241009T125255Z
UID:10001128-1729004400-1729011600@pg-muenster.de
SUMMARY:Tanzen mit Yvone (ab 10 Jahren) 🪩
DESCRIPTION:Hip-Hop\, Breakdance und mehr! Du hast Lust tanzen zu lernen? Dann komm zu unserem kostenfreien Tanzkurs. \nWann? Dienstags von 15-17 Uhr \nWo? Warendorferstr. 14 \nFür wen? für alle ab 10 Jahren! \nWir freuen uns auf Dich! \nFür alle aktuellen Infos folg uns doch auf Instagram oder tritt unserem WhatsApp-Channel bei.
URL:https://pg-muenster.de/veranstaltung/tanzen-mit-yvone-ab-10-jahren-%f0%9f%aa%a9-3/
LOCATION:Chaos Culture Club\, Warendorferstr. 14\, Münster
CATEGORIES:Ferienprogramm,Girls,Tanz,Wochenprogramm
ORGANIZER;CN="PG":MAILTO:info@pg-muenster.de
END:VEVENT
BEGIN:VEVENT
DTSTART;TZID=Europe/Berlin:20241014T160000
DTEND;TZID=Europe/Berlin:20241014T200000
DTSTAMP:20260421T055117
CREATED:20241009T130216Z
LAST-MODIFIED:20241009T130216Z
UID:10001131-1728921600-1728936000@pg-muenster.de
SUMMARY:Mit Perlen basteln: Armbänder\, Ketten & Co 💍
DESCRIPTION:Wir basteln Armbänder\, Ketten und Ringe oder worauf ihr sonst Lust habt aus Perlen. Wir haben das gesamte Material schon für euch bereitstehen\, kommt vorbei zum quatschen und Perlen fädeln! \nWir freuen uns auf Dich! \nFür alle aktuellen Infos folg uns doch auf Instagram oder tritt unserem WhatsApp-Channel bei.
URL:https://pg-muenster.de/veranstaltung/mit-perlen-basteln-armbaender-ketten-co-%f0%9f%92%8d/
LOCATION:Gleis 22\, Hafenweg 34\, Münster\, 48155
CATEGORIES:Angebote für Geflüchtete,Ferienprogramm,Girls,Kreativ
ORGANIZER;CN="PG":MAILTO:info@pg-muenster.de
END:VEVENT
BEGIN:VEVENT
DTSTART;TZID=Europe/Berlin:20241014T150000
DTEND;TZID=Europe/Berlin:20241014T200000
DTSTAMP:20260421T055117
CREATED:20241009T124622Z
LAST-MODIFIED:20241009T124622Z
UID:10001116-1728918000-1728936000@pg-muenster.de
SUMMARY:Offener Treff im Gleis 22
DESCRIPTION:Montags bis Donnerstags sind wir im Gleis 22 von 15-20 Uhr mit dem offenen Treff für euch da. \nIhr könnt bei uns Billard\, Playstation oder Gesellschaftsspiele spielen\, kreativ werden\, gemeinsam kochen\, einfach chillen oder vieles mehr! \nWir freuen uns auf euch! \nFür alle aktuellen Infos folg uns doch auf Instagram oder tritt unserem WhatsApp-Channel bei.
URL:https://pg-muenster.de/veranstaltung/offener-treff-im-gleis-22-2/
LOCATION:Gleis 22\, Hafenweg 34\, Münster\, 48155
CATEGORIES:Wochenprogramm
ORGANIZER;CN="PG":MAILTO:info@pg-muenster.de
END:VEVENT
BEGIN:VEVENT
DTSTART;TZID=Europe/Berlin:20241010T150000
DTEND;TZID=Europe/Berlin:20241010T200000
DTSTAMP:20260421T055117
CREATED:20241009T124427Z
LAST-MODIFIED:20241009T124427Z
UID:10001115-1728572400-1728590400@pg-muenster.de
SUMMARY:Offener Treff im Gleis 22
DESCRIPTION:Montags bis Donnerstags sind wir im Gleis 22 von 15-20 Uhr mit dem offenen Treff für euch da. \nIhr könnt bei uns Billard\, Playstation oder Gesellschaftsspiele spielen\, kreativ werden\, gemeinsam kochen\, einfach chillen oder vieles mehr! \nWir freuen uns auf euch! \nFür alle aktuellen Infos folg uns doch auf Instagram oder tritt unserem WhatsApp-Channel bei.
URL:https://pg-muenster.de/veranstaltung/offener-treff-im-gleis-22/
LOCATION:Gleis 22\, Hafenweg 34\, Münster\, 48155
CATEGORIES:Wochenprogramm
ORGANIZER;CN="PG":MAILTO:info@pg-muenster.de
END:VEVENT
BEGIN:VEVENT
DTSTART;TZID=Europe/Berlin:20240820T150000
DTEND;TZID=Europe/Berlin:20240820T170000
DTSTAMP:20260421T055117
CREATED:20240618T131518Z
LAST-MODIFIED:20240618T131521Z
UID:10001084-1724166000-1724173200@pg-muenster.de
SUMMARY:Tanzen mit Yvone (ab 10 Jahren) 🪩
DESCRIPTION:Hip-Hop\, Breakdance und mehr! Du hast Lust tanzen zu lernen? Dann komm zu unserem kostenfreien Tanzkurs. \nWann? Dienstags von 15-17 Uhr \nWo? Warendorferstr. 14 \nFür wen? für alle ab 10 Jahren!
URL:https://pg-muenster.de/veranstaltung/tanzen-mit-yvone-ab-10-jahren-%f0%9f%aa%a9-2/
LOCATION:Chaos Culture Club\, Warendorferstr. 14\, Münster
CATEGORIES:Ferienprogramm,Sport,Tanz
ORGANIZER;CN="PG":MAILTO:info@pg-muenster.de
END:VEVENT
BEGIN:VEVENT
DTSTART;TZID=Europe/Berlin:20240806T150000
DTEND;TZID=Europe/Berlin:20240806T180000
DTSTAMP:20260421T055117
CREATED:20240702T141847Z
LAST-MODIFIED:20240702T141847Z
UID:10001114-1722956400-1722967200@pg-muenster.de
SUMMARY:Schwarzlicht Minigolf
DESCRIPTION:Wir fahren zum Schwarzlicht Minigolf und jagen die Golfbälle mit euch im Neonlicht durch die Bahnen.
URL:https://pg-muenster.de/veranstaltung/schwarzlicht-minigolf/
LOCATION:Gleis 22\, Hafenweg 34\, Münster\, 48155
CATEGORIES:Angebote für Geflüchtete,Ausflug,Ferienprogramm,Sport
ORGANIZER;CN="PG":MAILTO:info@pg-muenster.de
END:VEVENT
BEGIN:VEVENT
DTSTART;TZID=Europe/Berlin:20240806T150000
DTEND;TZID=Europe/Berlin:20240806T170000
DTSTAMP:20260421T055117
CREATED:20240618T131345Z
LAST-MODIFIED:20240618T131346Z
UID:10001083-1722956400-1722963600@pg-muenster.de
SUMMARY:Tanzen mit Yvone (ab 10 Jahren) 💃
DESCRIPTION:Hip-Hop\, Breakdance und mehr! Du hast Lust tanzen zu lernen? Dann komm zu unserem kostenfreien Tanzkurs. \nWann? Dienstags von 15-17 Uhr \nWo? Warendorferstr. 14 \nFür wen? für alle ab 10 Jahren!
URL:https://pg-muenster.de/veranstaltung/tanzen-mit-yvone-ab-10-jahren-%f0%9f%92%83-4/
LOCATION:Chaos Culture Club\, Warendorferstr. 14\, Münster
CATEGORIES:Ferienprogramm,Sport,Tanz
ORGANIZER;CN="PG":MAILTO:info@pg-muenster.de
END:VEVENT
BEGIN:VEVENT
DTSTART;TZID=Europe/Berlin:20240801T150000
DTEND;TZID=Europe/Berlin:20240801T170000
DTSTAMP:20260421T055117
CREATED:20240702T141342Z
LAST-MODIFIED:20240702T141342Z
UID:10001113-1722524400-1722531600@pg-muenster.de
SUMMARY:Offenes Jugendcafé
DESCRIPTION:Von Montag bis Donnerstag ist das Café für euch von 15 bis 20 Uhr geöffnet. Kommt vorbei zum chillen\, zocken und quatschen. Wir freuen uns auf euch!
URL:https://pg-muenster.de/veranstaltung/offenes-jugendcafe-16/
LOCATION:Gleis 22\, Hafenweg 34\, Münster\, 48155
CATEGORIES:Angebote für Geflüchtete,Ferienprogramm
ORGANIZER;CN="PG":MAILTO:info@pg-muenster.de
END:VEVENT
BEGIN:VEVENT
DTSTART;TZID=Europe/Berlin:20240731T160000
DTEND;TZID=Europe/Berlin:20240731T190000
DTSTAMP:20260421T055117
CREATED:20240702T140912Z
LAST-MODIFIED:20240702T140913Z
UID:10001109-1722441600-1722452400@pg-muenster.de
SUMMARY:Wir machen Nudeln selbst! Eine echte Premiere!
DESCRIPTION:Für den richtig italienischen Flair wollen wir auf ganz besondere Weise mit euch kochen! \nWir machen Nudeln komplett selbst! Eine echte Premiere\, die bestimmmt super lecker wird!
URL:https://pg-muenster.de/veranstaltung/wir-machen-nudeln-selbst-eine-echte-premiere/
LOCATION:Gleis 22\, Hafenweg 34\, Münster\, 48155
CATEGORIES:Angebote für Geflüchtete,Essen & Kochen,Ferienprogramm
ORGANIZER;CN="PG":MAILTO:info@pg-muenster.de
END:VEVENT
BEGIN:VEVENT
DTSTART;TZID=Europe/Berlin:20240731T150000
DTEND;TZID=Europe/Berlin:20240731T170000
DTSTAMP:20260421T055117
CREATED:20240702T141302Z
LAST-MODIFIED:20240702T141302Z
UID:10001112-1722438000-1722445200@pg-muenster.de
SUMMARY:Offenes Jugendcafé
DESCRIPTION:Von Montag bis Donnerstag ist das Café für euch von 15 bis 20 Uhr geöffnet. Kommt vorbei zum chillen\, zocken und quatschen. Wir freuen uns auf euch!
URL:https://pg-muenster.de/veranstaltung/offenes-jugendcafe-15/
LOCATION:Gleis 22\, Hafenweg 34\, Münster\, 48155
CATEGORIES:Angebote für Geflüchtete,Ferienprogramm
ORGANIZER;CN="PG":MAILTO:info@pg-muenster.de
END:VEVENT
END:VCALENDAR